Workbook
Name Call.Type: Lists!$H$3:$H$4
Name Include: Lists!$A$3:$A$4
Name level.: Lists!$D$3:$D$6
Name MeasurementType: Lists!$I$3:$I$4
Name Meso: Lists!$F$3:$F$6
Name Operators.: Lists!$E$3:$E$16
Name Period: Lists!$B$3:$B$4
Name Service: Lists!$G$3:$G$5
Name TelephoneMedia: Lists!$F$3:$F$4

Sheet ΓΕΝΙΚΑ
C1: Στοιχεία Μέτρησης
A2: Πάροχος | C2: COSMOTE
A3: Πάροχος (εκτός λίστας):
A4: Πάροχος | C4: =IF(C2="",TEXT(C3,),C2) -> COSMOTE
A5: Περίοδος | C5: 2ο Εξάμηνο
A6: Έτος | C6: 2018
A7: Ημερ/νία έναρξης μετρήσεων | C7: 43282
A8: Ημερ/νία λήξης μετρήσεων | C8: 43465
A9: Σημειώσεις Παρόχου
A12: ΕΛΕΓΧΟΣ ΣΤΟΙΧΕΙΩΝ ΠΑΡΟΧΟΥ ΚΑΙ ΠΕΡΙΟΔΟΥ ΜΕΤΡΗΣΗΣ: | C12: =IF(OR(C5="",C4="",C6="",C7="",C8=""),"ΤΑ ΣΤΟΙΧΕΙΑ ΔΕΝ ΕΙΝΑΙ ΠΛΗΡΗ","ΤΑ ΣΤΟΙΧΕΙΑ ΕΙΝΑΙ ΠΛΗΡΗ") -> ΤΑ ΣΤΟΙΧΕΙΑ ΕΙΝΑΙ ΠΛΗΡΗ
B13: Υποβολή | C13: =CONCATENATE(IF($B$14="ΝΑΙ",COUNTIF('H01'!P:P,"ΣΦΑΛΜΑ"),0)+IF(B15="ΝΑΙ",COUNTIF('H02'!M:M,"ΣΦΑΛΜΑ"),0)+COUNTIF('H03'!F:F,"ΣΦΑΛΜΑ")+COUNTIF('H04'!J:J,"ΣΦΑΛΜΑ")+COUNTIF('H05'!J:J,"ΣΦΑΛΜΑ")," ΣΦΑΛΜΑΤΑ") -> 0 ΣΦΑΛΜΑΤΑ
A14: ΕΛΕΓΧΟΣ ΟΡΘΟΤΗΤΑΣ ΔΠ H01: | B14: ΝΑΙ | C14: =IF(B14="ΟΧΙ","",IF(COUNTIF('H01'!P:P,"ΣΦΑΛΜΑ")=0,"ΤΑ ΣΤΟΙΧΕΙΑ ΕΙΝΑΙ ΟΡΘΑ","ΥΠΑΡΧΟΥΝ ΛΑΘΗ")) -> ΤΑ ΣΤΟΙΧΕΙΑ ΕΙΝΑΙ ΟΡΘΑ
A15: ΕΛΕΓΧΟΣ ΟΡΘΟΤΗΤΑΣ ΔΠ H02: | B15: ΝΑΙ | C15: =IF(B15="ΟΧΙ","",IF(COUNTIF('H02'!M:M,"ΣΦΑΛΜΑ")=0,"ΤΑ ΣΤΟΙΧΕΙΑ ΕΙΝΑΙ ΟΡΘΑ","ΥΠΑΡΧΟΥΝ ΛΑΘΗ")) -> ΤΑ ΣΤΟΙΧΕΙΑ ΕΙΝΑΙ ΟΡΘΑ
A16: ΕΛΕΓΧΟΣ ΟΡΘΟΤΗΤΑΣ ΔΠ H03: | B16: ΝΑΙ | C16: =IF(B16="ΟΧΙ","",IF(COUNTIF('H03'!N:N,"ΣΦΑΛΜΑ")=0,"ΤΑ ΣΤΟΙΧΕΙΑ ΕΙΝΑΙ ΟΡΘΑ","ΥΠΑΡΧΟΥΝ ΛΑΘΗ")) -> ΤΑ ΣΤΟΙΧΕΙΑ ΕΙΝΑΙ ΟΡΘΑ
A17: ΕΛΕΓΧΟΣ ΟΡΘΟΤΗΤΑΣ ΔΠ H04: | B17: ΝΑΙ | C17: =IF(B17="ΟΧΙ","",IF(COUNTIF('H04'!J3,"ΣΦΑΛΜΑ")=0,"ΤΑ ΣΤΟΙΧΕΙΑ ΕΙΝΑΙ ΟΡΘΑ","ΥΠΑΡΧΟΥΝ ΛΑΘΗ")) -> ΤΑ ΣΤΟΙΧΕΙΑ ΕΙΝΑΙ ΟΡΘΑ
A18: ΕΛΕΓΧΟΣ ΟΡΘΟΤΗΤΑΣ ΔΠ H05: | B18: ΝΑΙ | C18: =IF(B18="ΟΧΙ","",IF(COUNTIF('H05'!J3,"ΣΦΑΛΜΑ")=0,"ΤΑ ΣΤΟΙΧΕΙΑ ΕΙΝΑΙ ΟΡΘΑ","ΥΠΑΡΧΟΥΝ ΛΑΘΗ")) -> ΤΑ ΣΤΟΙΧΕΙΑ ΕΙΝΑΙ ΟΡΘΑ

Sheet H01
A1: KPIcode | B1: Operator | C1: LatestUpdate | D1: Orchard_Measurement_Id | E1: Orchard_Route_Title | F1: MeasurementArea | G1: NoUse | H1: NoUse | I1: Service | J1: ServiceType | K1: ServiceValue | L1: ServiceCost | M1: WorkingHours | N1: Notes | P1: NoUse | Q1: NoUse
A2: KPI-CODE | B2: Πάροχος | C2: Ημερ/νία τελευταίας ενημέρωσης (μορφή ΗΗ/ΜΜ/ΕΕΕΕ) | F2: ΠΕΡΙΟΧΗ | G2: Βασικές Υπηρεσίες (Αν αφεθεί κενό δεν απαιτείται συμπλήρωση των άλλων στοιχείων της γραμμής) | H2: Άλλη Υπηρεσία (Συμπληρώνεται μόνο αν επιλεγεί 'Άλλη' στις Βασικές υπηρεσίες) | I2: Υπηρεσία | J2: Μέσο | K2: Στοιχεία μέσου | L2: Χρέωση με ΦΠΑ (€) | M2: Ωράριο λειτουργίας | N2: Σημειώσεις Παρόχου | P2: ΕΛΕΓΧΟΣ ΟΡΘΟΤΗΤΑΣ | Q2: Σφάλματα
A3: H01 | B3: =ΓΕΝΙΚΑ!C4 -> COSMOTE | C3: 43466 | D3: =IF(P3="",IF(ΓΕΝΙΚΑ!$B$14="ΝΑΙ",15300,""),"") -> 15300 | E3: =IF(ΓΕΝΙΚΑ!$B$14="ΝΑΙ","ΠΑΝΕΛΛΑΔΙΚΑ","") -> ΠΑΝΕΛΛΑΔΙΚΑ | F3: ΠΑΝΕΛΛΑΔΙΚΑ | G3: Λήψη παραγγελιών ή/και παροχή πληροφοριών/βοήθειας | I3: =IF(G3="","",IF(G3="Άλλη",H3,G3)) -> Λήψη παραγγελιών ή/και παροχή πληροφοριών/βοήθειας | J3: Τηλέφωνο | K3: 13838 | L3: Η χρέωση από κινητό τηλέφωνο COSMOTE είναι 0,19 Ευρώ/κλήση | M3: Δευτέρα - Κυριακή & αργίες : 00:00 - 24:00 | N3: 13838: Εξυπηρέτηση Οικιακών Πελατών & Καρτοκινητής (λήψη παραγγελιών, βλαβοληψία, παροχή πληροφοριών/βοήθειας) 13839: Εξυπηρέτηση Εταιρικών Πελατών (λήψη παραγγελιών, βλαβοληψία, παροχή πληροφοριών/βοήιθειας) 1255: Εξυπηρέτηση Ευρυζωνικών Υπηρεσιών (ADSL) (παροχή πληροφοριών) 1250: Υπηρεσία Γενικών Πληροφοριών COSMOTE και Αναγγελία Βλαβών 1299: Εξυπηρέτηση Πελατών Frog (λήψη παραγγελιών, βλαβοληψία, παροχή πληροφοριών/βοήθειας) 1290: Βλαβοληψία Frog | P3: =IF(Q3="","","ΣΦΑΛΜΑ") | Q3: =IF(G3="","",CONCATENATE(IF(AND(FALSE,W3<>0),"Σφάλμα ημερομηνίας",""),IF(I3=""," | Πρέπει να επιλεγεί υπηρεσία",""),IF(J3=""," | Πρέπει να επιλεγεί μέσο",""),IF(K3=""," | Πρέπει να αναγραφούν τα στοιχεία μέσου",""),IF(L3=""," | Πρέπει να αναγραφεί η χρέωση του μέσου",""),IF(M3=""," | Πρέπει να αναγραφεί ωράριο λειτουργίας",""), IF(AND(ISNUMBER(K3)=FALSE,OR(J3="Τηλέφωνο",J3="Fax"))," | Τα στοιχεία μέσου (αριθμός τηλεφώνου ή fax) πρέπει να είναι αριθμός",""))) | R3: =TEXT($C$3,"ηη/ΜΜ/εεεε") -> 01/01/2019 | S3: =VALUE(LEFT(R3,2)) -> 1 | T3: =VALUE(MID(R3,4,2)) -> 1 | U3: =VALUE(RIGHT(R3,4)) -> 2019 | V3: =IF(LEN((R3)=10),0,1)+IF(AND(S3>0,S3<32),0,1)+IF(AND(T3>0,T3<13),0,1)+IF(AND(U3>2000,U3<2030),0,1) -> 0 | W3: =IF(ISERR(V3),1,V3) -> 0
A4: =A$3 -> H01 | B4: =B$3 -> COSMOTE | C4: =C$3 -> 43466 | D4: =IF(AND(G4<>"",P4=""),IF(ΓΕΝΙΚΑ!$B$14="ΝΑΙ",15300,""),"") -> 15300 | E4: =IF(ΓΕΝΙΚΑ!$B$14="ΝΑΙ","ΠΑΝΕΛΛΑΔΙΚΑ","") -> ΠΑΝΕΛΛΑΔΙΚΑ | F4: ΠΑΝΕΛΛΑΔΙΚΑ | G4: Λήψη παραγγελιών ή/και παροχή πληροφοριών/βοήθειας | I4: =IF(G4="","",IF(G4="Άλλη",H4,G4)) -> Λήψη παραγγελιών ή/και παροχή πληροφοριών/βοήθειας | J4: Τηλέφωνο | K4: 13839 | L4: Ατελώς από εταιρικό κινητό Cosmote, από οικιακό COSMOTE η χρέωση είναι 0,093€ για τα πρώτα 30’’ και μετά 0,0031€/δευτ., από Καρτοκινητό COSMOTE η χρέωση είναι 0,3564€ για τα πρώτα 30’’ και μετά 0,011878€/δευτ. | M4: Δευτέρα - Κυριακή & αργίες : 00:00 - 24:00 | N4: =N$3 -> 13838: Εξυπηρέτηση Οικιακών Πελατών & Καρτοκινητής (λήψη παραγγελιών, βλαβοληψία, παροχή πληροφοριών/βοήθειας) 13839: Εξυπηρέτηση Εταιρικών Πελατών (λήψη παραγγελιών, βλαβοληψία, παροχή πληροφοριών/βοήιθειας) 1255: Εξυπηρέτηση Ευρυζωνικών Υπηρεσιών (ADSL) (παροχή πληροφοριών) 1250: Υπηρεσία Γενικών Πληροφοριών COSMOTE και Αναγγελία Βλαβών 1299: Εξυπηρέτηση Πελατών Frog (λήψη παραγγελιών, βλαβοληψία, παροχή πληροφοριών/βοήθειας) 1290: Βλαβοληψία Frog | P4: =IF(Q4="","","ΣΦΑΛΜΑ") | Q4: =IF(G4="","",CONCATENATE(IF(AND(FALSE,W4<>0),"Σφάλμα ημερομηνίας",""),IF(I4=""," | Πρέπει να επιλεγεί υπηρεσία",""),IF(J4=""," | Πρέπει να επιλεγεί μέσο",""),IF(K4=""," | Πρέπει να αναγραφούν τα στοιχεία μέσου",""),IF(L4=""," | Πρέπει να αναγραφεί η χρέωση του μέσου",""),IF(M4=""," | Πρέπει να αναγραφεί ωράριο λειτουργίας",""), IF(AND(ISNUMBER(K4)=FALSE,OR(J4="Τηλέφωνο",J4="Fax"))," | Τα στοιχεία μέσου (αριθμός τηλεφώνου ή fax) πρέπει να είναι αριθμός",""))) | R4: =TEXT($C$3,"ηη/ΜΜ/εεεε") -> 01/01/2019 | S4: =VALUE(LEFT(R4,2)) -> 1 | T4: =VALUE(MID(R4,4,2)) -> 1 | U4: =VALUE(RIGHT(R4,4)) -> 2019 | V4: =IF(LEN((R4)=10),0,1)+IF(AND(S4>0,S4<32),0,1)+IF(AND(T4>0,T4<13),0,1)+IF(AND(U4>2000,U4<2030),0,1) -> 0 | W4: =IF(ISERR(V4),1,V4) -> 0
A5: =A$3 -> H01 | B5: =B$3 -> COSMOTE | C5: =C$3 -> 43466 | D5: =IF(AND(G5<>"",P5=""),IF(ΓΕΝΙΚΑ!$B$14="ΝΑΙ",15300,""),"") -> 15300 | E5: =IF(ΓΕΝΙΚΑ!$B$14="ΝΑΙ","ΠΑΝΕΛΛΑΔΙΚΑ","") -> ΠΑΝΕΛΛΑΔΙΚΑ | F5: ΠΑΝΕΛΛΑΔΙΚΑ | G5: Λήψη παραγγελιών ή/και παροχή πληροφοριών/βοήθειας | I5: =IF(G5="","",IF(G5="Άλλη",H5,G5)) -> Λήψη παραγγελιών ή/και παροχή πληροφοριών/βοήθειας | J5: Τηλέφωνο | K5: 1255 | L5: Η κλήση προς την υπηρεσία COSMOTE ADSL από συνδρομητές µε ενεργοποιηµένη την υπηρεσία COSMOTE ADSL είναι χωρίς χρέωση από εταιρική σύνδεση, 0.123 €/ κλήση για συνδρομητές ΚαρτοΣυµβολαίου και 0.246 €/ κλήση από Oικιακά Προγράµµατα Συµβολαίου που έχουν αιτηθεί την ενεργοποίηση της υπηρεσίας COSMOTE ADSL. Η χρέωση από λοιπούς συνδροµητές COSMOTE είναι 0.492 €/κλήση. | M5: Δευτέρα - Κυριακή & αργίες : 00:00 - 24:00 | N5: =N$3 -> 13838: Εξυπηρέτηση Οικιακών Πελατών & Καρτοκινητής (λήψη παραγγελιών, βλαβοληψία, παροχή πληροφοριών/βοήθειας) 13839: Εξυπηρέτηση Εταιρικών Πελατών (λήψη παραγγελιών, βλαβοληψία, παροχή πληροφοριών/βοήιθειας) 1255: Εξυπηρέτηση Ευρυζωνικών Υπηρεσιών (ADSL) (παροχή πληροφοριών) 1250: Υπηρεσία Γενικών Πληροφοριών COSMOTE και Αναγγελία Βλαβών 1299: Εξυπηρέτηση Πελατών Frog (λήψη παραγγελιών, βλαβοληψία, παροχή πληροφοριών/βοήθειας) 1290: Βλαβοληψία Frog | P5: =IF(Q5="","","ΣΦΑΛΜΑ") | Q5: =IF(G5="","",CONCATENATE(IF(AND(FALSE,W5<>0),"Σφάλμα ημερομηνίας",""),IF(I5=""," | Πρέπει να επιλεγεί υπηρεσία",""),IF(J5=""," | Πρέπει να επιλεγεί μέσο",""),IF(K5=""," | Πρέπει να αναγραφούν τα στοιχεία μέσου",""),IF(L5=""," | Πρέπει να αναγραφεί η χρέωση του μέσου",""),IF(M5=""," | Πρέπει να αναγραφεί ωράριο λειτουργίας",""), IF(AND(ISNUMBER(K5)=FALSE,OR(J5="Τηλέφωνο",J5="Fax"))," | Τα στοιχεία μέσου (αριθμός τηλεφώνου ή fax) πρέπει να είναι αριθμός",""))) | R5: =TEXT($C$3,"ηη/ΜΜ/εεεε") -> 01/01/2019 | S5: =VALUE(LEFT(R5,2)) -> 1 | T5: =VALUE(MID(R5,4,2)) -> 1 | U5: =VALUE(RIGHT(R5,4)) -> 2019 | V5: =IF(LEN((R5)=10),0,1)+IF(AND(S5>0,S5<32),0,1)+IF(AND(T5>0,T5<13),0,1)+IF(AND(U5>2000,U5<2030),0,1) -> 0 | W5: =IF(ISERR(V5),1,V5) -> 0
A6: =A$3 -> H01 | B6: =B$3 -> COSMOTE | C6: =C$3 -> 43466 | D6: =IF(AND(G6<>"",P6=""),IF(ΓΕΝΙΚΑ!$B$14="ΝΑΙ",15300,""),"") -> 15300 | E6: =IF(ΓΕΝΙΚΑ!$B$14="ΝΑΙ","ΠΑΝΕΛΛΑΔΙΚΑ","") -> ΠΑΝΕΛΛΑΔΙΚΑ | F6: ΠΑΝΕΛΛΑΔΙΚΑ | G6: Λήψη παραγγελιών ή/και παροχή πληροφοριών/βοήθειας | I6: =IF(G6="","",IF(G6="Άλλη",H6,G6)) -> Λήψη παραγγελιών ή/και παροχή πληροφοριών/βοήθειας | J6: Τηλέφωνο | K6: 1250 | L6: Ατελώς | M6: Δευτέρα - Κυριακή & αργίες : 00:00 - 24:00 | N6: =N$3 -> 13838: Εξυπηρέτηση Οικιακών Πελατών & Καρτοκινητής (λήψη παραγγελιών, βλαβοληψία, παροχή πληροφοριών/βοήθειας) 13839: Εξυπηρέτηση Εταιρικών Πελατών (λήψη παραγγελιών, βλαβοληψία, παροχή πληροφοριών/βοήιθειας) 1255: Εξυπηρέτηση Ευρυζωνικών Υπηρεσιών (ADSL) (παροχή πληροφοριών) 1250: Υπηρεσία Γενικών Πληροφοριών COSMOTE και Αναγγελία Βλαβών 1299: Εξυπηρέτηση Πελατών Frog (λήψη παραγγελιών, βλαβοληψία, παροχή πληροφοριών/βοήθειας) 1290: Βλαβοληψία Frog | P6: =IF(Q6="","","ΣΦΑΛΜΑ") | Q6: =IF(G6="","",CONCATENATE(IF(AND(FALSE,W6<>0),"Σφάλμα ημερομηνίας",""),IF(I6=""," | Πρέπει να επιλεγεί υπηρεσία",""),IF(J6=""," | Πρέπει να επιλεγεί μέσο",""),IF(K6=""," | Πρέπει να αναγραφούν τα στοιχεία μέσου",""),IF(L6=""," | Πρέπει να αναγραφεί η χρέωση του μέσου",""),IF(M6=""," | Πρέπει να αναγραφεί ωράριο λειτουργίας",""), IF(AND(ISNUMBER(K6)=FALSE,OR(J6="Τηλέφωνο",J6="Fax"))," | Τα στοιχεία μέσου (αριθμός τηλεφώνου ή fax) πρέπει να είναι αριθμός",""))) | R6: =TEXT($C$3,"ηη/ΜΜ/εεεε") -> 01/01/2019 | S6: =VALUE(LEFT(R6,2)) -> 1 | T6: =VALUE(MID(R6,4,2)) -> 1 | U6: =VALUE(RIGHT(R6,4)) -> 2019 | V6: =IF(LEN((R6)=10),0,1)+IF(AND(S6>0,S6<32),0,1)+IF(AND(T6>0,T6<13),0,1)+IF(AND(U6>2000,U6<2030),0,1) -> 0 | W6: =IF(ISERR(V6),1,V6) -> 0
A7: =A$3 -> H01 | B7: =B$3 -> COSMOTE | C7: =C$3 -> 43466 | D7: =IF(AND(G7<>"",P7=""),IF(ΓΕΝΙΚΑ!$B$14="ΝΑΙ",15300,""),"") -> 15300 | E7: =IF(ΓΕΝΙΚΑ!$B$14="ΝΑΙ","ΠΑΝΕΛΛΑΔΙΚΑ","") -> ΠΑΝΕΛΛΑΔΙΚΑ | F7: ΠΑΝΕΛΛΑΔΙΚΑ | G7: Λήψη παραγγελιών ή/και παροχή πληροφοριών/βοήθειας | I7: =IF(G7="","",IF(G7="Άλλη",H7,G7)) -> Λήψη παραγγελιών ή/και παροχή πληροφοριών/βοήθειας | J7: Τηλέφωνο | K7: 1299 | L7: 0,19 Ευρώ/κλήση από κινητά Cosmote | M7: Δευτέρα - Κυριακή & αργίες : 00:00 - 24:00 | N7: =N$3 -> 13838: Εξυπηρέτηση Οικιακών Πελατών & Καρτοκινητής (λήψη παραγγελιών, βλαβοληψία, παροχή πληροφοριών/βοήθειας) 13839: Εξυπηρέτηση Εταιρικών Πελατών (λήψη παραγγελιών, βλαβοληψία, παροχή πληροφοριών/βοήιθειας) 1255: Εξυπηρέτηση Ευρυζωνικών Υπηρεσιών (ADSL) (παροχή πληροφοριών) 1250: Υπηρεσία Γενικών Πληροφοριών COSMOTE και Αναγγελία Βλαβών 1299: Εξυπηρέτηση Πελατών Frog (λήψη παραγγελιών, βλαβοληψία, παροχή πληροφοριών/βοήθειας) 1290: Βλαβοληψία Frog | P7: =IF(Q7="","","ΣΦΑΛΜΑ") | Q7: =IF(G7="","",CONCATENATE(IF(AND(FALSE,W7<>0),"Σφάλμα ημερομηνίας",""),IF(I7=""," | Πρέπει να επιλεγεί υπηρεσία",""),IF(J7=""," | Πρέπει να επιλεγεί μέσο",""),IF(K7=""," | Πρέπει να αναγραφούν τα στοιχεία μέσου",""),IF(L7=""," | Πρέπει να αναγραφεί η χρέωση του μέσου",""),IF(M7=""," | Πρέπει να αναγραφεί ωράριο λειτουργίας",""), IF(AND(ISNUMBER(K7)=FALSE,OR(J7="Τηλέφωνο",J7="Fax"))," | Τα στοιχεία μέσου (αριθμός τηλεφώνου ή fax) πρέπει να είναι αριθμός",""))) | R7: =TEXT($C$3,"ηη/ΜΜ/εεεε") -> 01/01/2019 | S7: =VALUE(LEFT(R7,2)) -> 1 | T7: =VALUE(MID(R7,4,2)) -> 1 | U7: =VALUE(RIGHT(R7,4)) -> 2019 | V7: =IF(LEN((R7)=10),0,1)+IF(AND(S7>0,S7<32),0,1)+IF(AND(T7>0,T7<13),0,1)+IF(AND(U7>2000,U7<2030),0,1) -> 0 | W7: =IF(ISERR(V7),1,V7) -> 0
A8: =A$3 -> H01 | B8: =B$3 -> COSMOTE | C8: =C$3 -> 43466 | D8: =IF(AND(G8<>"",P8=""),IF(ΓΕΝΙΚΑ!$B$14="ΝΑΙ",15300,""),"") -> 15300 | E8: =IF(ΓΕΝΙΚΑ!$B$14="ΝΑΙ","ΠΑΝΕΛΛΑΔΙΚΑ","") -> ΠΑΝΕΛΛΑΔΙΚΑ | F8: ΠΑΝΕΛΛΑΔΙΚΑ | G8: Βλαβοληψία | I8: =IF(G8="","",IF(G8="Άλλη",H8,G8)) -> Βλαβοληψία | J8: Τηλέφωνο | K8: 1290 | L8: Ατελώς | M8: Δευτέρα - Κυριακή & αργίες : 00:00 - 24:00 | N8: =N$3 -> 13838: Εξυπηρέτηση Οικιακών Πελατών & Καρτοκινητής (λήψη παραγγελιών, βλαβοληψία, παροχή πληροφοριών/βοήθειας) 13839: Εξυπηρέτηση Εταιρικών Πελατών (λήψη παραγγελιών, βλαβοληψία, παροχή πληροφοριών/βοήιθειας) 1255: Εξυπηρέτηση Ευρυζωνικών Υπηρεσιών (ADSL) (παροχή πληροφοριών) 1250: Υπηρεσία Γενικών Πληροφοριών COSMOTE και Αναγγελία Βλαβών 1299: Εξυπηρέτηση Πελατών Frog (λήψη παραγγελιών, βλαβοληψία, παροχή πληροφοριών/βοήθειας) 1290: Βλαβοληψία Frog | P8: =IF(Q8="","","ΣΦΑΛΜΑ") | Q8: =IF(G8="","",CONCATENATE(IF(AND(FALSE,W8<>0),"Σφάλμα ημερομηνίας",""),IF(I8=""," | Πρέπει να επιλεγεί υπηρεσία",""),IF(J8=""," | Πρέπει να επιλεγεί μέσο",""),IF(K8=""," | Πρέπει να αναγραφούν τα στοιχεία μέσου",""),IF(L8=""," | Πρέπει να αναγραφεί η χρέωση του μέσου",""),IF(M8=""," | Πρέπει να αναγραφεί ωράριο λειτουργίας",""), IF(AND(ISNUMBER(K8)=FALSE,OR(J8="Τηλέφωνο",J8="Fax"))," | Τα στοιχεία μέσου (αριθμός τηλεφώνου ή fax) πρέπει να είναι αριθμός",""))) | R8: =TEXT($C$3,"ηη/ΜΜ/εεεε") -> 01/01/2019 | S8: =VALUE(LEFT(R8,2)) -> 1 | T8: =VALUE(MID(R8,4,2)) -> 1 | U8: =VALUE(RIGHT(R8,4)) -> 2019 | V8: =IF(LEN((R8)=10),0,1)+IF(AND(S8>0,S8<32),0,1)+IF(AND(T8>0,T8<13),0,1)+IF(AND(U8>2000,U8<2030),0,1) -> 0 | W8: =IF(ISERR(V8),1,V8) -> 0
A9: =A$3 -> H01 | B9: =B$3 -> COSMOTE | C9: =C$3 -> 43466 | D9: =IF(AND(G9<>"",P9=""),IF(ΓΕΝΙΚΑ!$B$14="ΝΑΙ",15300,""),"") -> 15300 | E9: =IF(ΓΕΝΙΚΑ!$B$14="ΝΑΙ","ΠΑΝΕΛΛΑΔΙΚΑ","") -> ΠΑΝΕΛΛΑΔΙΚΑ | F9: ΠΑΝΕΛΛΑΔΙΚΑ | G9: Βλαβοληψία | I9: =IF(G9="","",IF(G9="Άλλη",H9,G9)) -> Βλαβοληψία | J9: Τηλέφωνο | K9: 13738 | L9: Ατελώς | M9: Δευτέρα - Κυριακή & αργίες : 00:00 - 24:00 | N9: =N$3 -> 13838: Εξυπηρέτηση Οικιακών Πελατών & Καρτοκινητής (λήψη παραγγελιών, βλαβοληψία, παροχή πληροφοριών/βοήθειας) 13839: Εξυπηρέτηση Εταιρικών Πελατών (λήψη παραγγελιών, βλαβοληψία, παροχή πληροφοριών/βοήιθειας) 1255: Εξυπηρέτηση Ευρυζωνικών Υπηρεσιών (ADSL) (παροχή πληροφοριών) 1250: Υπηρεσία Γενικών Πληροφοριών COSMOTE και Αναγγελία Βλαβών 1299: Εξυπηρέτηση Πελατών Frog (λήψη παραγγελιών, βλαβοληψία, παροχή πληροφοριών/βοήθειας) 1290: Βλαβοληψία Frog | P9: =IF(Q9="","","ΣΦΑΛΜΑ") | Q9: =IF(G9="","",CONCATENATE(IF(AND(FALSE,W9<>0),"Σφάλμα ημερομηνίας",""),IF(I9=""," | Πρέπει να επιλεγεί υπηρεσία",""),IF(J9=""," | Πρέπει να επιλεγεί μέσο",""),IF(K9=""," | Πρέπει να αναγραφούν τα στοιχεία μέσου",""),IF(L9=""," | Πρέπει να αναγραφεί η χρέωση του μέσου",""),IF(M9=""," | Πρέπει να αναγραφεί ωράριο λειτουργίας",""), IF(AND(ISNUMBER(K9)=FALSE,OR(J9="Τηλέφωνο",J9="Fax"))," | Τα στοιχεία μέσου (αριθμός τηλεφώνου ή fax) πρέπει να είναι αριθμός",""))) | R9: =TEXT($C$3,"ηη/ΜΜ/εεεε") -> 01/01/2019 | S9: =VALUE(LEFT(R9,2)) -> 1 | T9: =VALUE(MID(R9,4,2)) -> 1 | U9: =VALUE(RIGHT(R9,4)) -> 2019 | V9: =IF(LEN((R9)=10),0,1)+IF(AND(S9>0,S9<32),0,1)+IF(AND(T9>0,T9<13),0,1)+IF(AND(U9>2000,U9<2030),0,1) -> 0 | W9: =IF(ISERR(V9),1,V9) -> 0
A10: =A$3 -> H01 | B10: =B$3 -> COSMOTE | C10: =C$3 -> 43466 | D10: =IF(AND(G10<>"",P10=""),IF(ΓΕΝΙΚΑ!$B$14="ΝΑΙ",15300,""),"") -> 15300 | E10: =IF(ΓΕΝΙΚΑ!$B$14="ΝΑΙ","ΠΑΝΕΛΛΑΔΙΚΑ","") -> ΠΑΝΕΛΛΑΔΙΚΑ | F10: ΠΑΝΕΛΛΑΔΙΚΑ | G10: Λήψη παραγγελιών ή/και παροχή πληροφοριών/βοήθειας | I10: =IF(G10="","",IF(G10="Άλλη",H10,G10)) -> Λήψη παραγγελιών ή/και παροχή πληροφοριών/βοήθειας | J10: Fax | K10: 2102511888 | L10: H χρέωση των αστικών και των υπεραστικών κλήσεων είναι 0,07 € ανά λεπτό συμπεριλαμβανομένου ΦΠΑ 24%. Η χρέωση είναι ενιαία για όλες τις ημέρες και ώρες της εβδομάδας. Τυχόν κλάσμα του λεπτού λογίζεται ως ακέραιο λεπτό | M10: Δευτέρα - Παρασκευή πλην επίσημων αργιών : 09:00 - 17:00 | N10: =N$3 -> 13838: Εξυπηρέτηση Οικιακών Πελατών & Καρτοκινητής (λήψη παραγγελιών, βλαβοληψία, παροχή πληροφοριών/βοήθειας) 13839: Εξυπηρέτηση Εταιρικών Πελατών (λήψη παραγγελιών, βλαβοληψία, παροχή πληροφοριών/βοήιθειας) 1255: Εξυπηρέτηση Ευρυζωνικών Υπηρεσιών (ADSL) (παροχή πληροφοριών) 1250: Υπηρεσία Γενικών Πληροφοριών COSMOTE και Αναγγελία Βλαβών 1299: Εξυπηρέτηση Πελατών Frog (λήψη παραγγελιών, βλαβοληψία, παροχή πληροφοριών/βοήθειας) 1290: Βλαβοληψία Frog | P10: =IF(Q10="","","ΣΦΑΛΜΑ") | Q10: =IF(G10="","",CONCATENATE(IF(AND(FALSE,W10<>0),"Σφάλμα ημερομηνίας",""),IF(I10=""," | Πρέπει να επιλεγεί υπηρεσία",""),IF(J10=""," | Πρέπει να επιλεγεί μέσο",""),IF(K10=""," | Πρέπει να αναγραφούν τα στοιχεία μέσου",""),IF(L10=""," | Πρέπει να αναγραφεί η χρέωση του μέσου",""),IF(M10=""," | Πρέπει να αναγραφεί ωράριο λειτουργίας",""), IF(AND(ISNUMBER(K10)=FALSE,OR(J10="Τηλέφωνο",J10="Fax"))," | Τα στοιχεία μέσου (αριθμός τηλεφώνου ή fax) πρέπει να είναι αριθμός",""))) | R10: =TEXT($C$3,"ηη/ΜΜ/εεεε") -> 01/01/2019 | S10: =VALUE(LEFT(R10,2)) -> 1 | T10: =VALUE(MID(R10,4,2)) -> 1 | U10: =VALUE(RIGHT(R10,4)) -> 2019 | V10: =IF(LEN((R10)=10),0,1)+IF(AND(S10>0,S10<32),0,1)+IF(AND(T10>0,T10<13),0,1)+IF(AND(U10>2000,U10<2030),0,1) -> 0 | W10: =IF(ISERR(V10),1,V10) -> 0
A11: =A$3 -> H01 | B11: =B$3 -> COSMOTE | C11: =C$3 -> 43466 | D11: =IF(AND(G11<>"",P11=""),IF(ΓΕΝΙΚΑ!$B$14="ΝΑΙ",15300,""),"") | E11: =IF(ΓΕΝΙΚΑ!$B$14="ΝΑΙ","ΠΑΝΕΛΛΑΔΙΚΑ","") -> ΠΑΝΕΛΛΑΔΙΚΑ | F11: ΠΑΝΕΛΛΑΔΙΚΑ | I11: =IF(G11="","",IF(G11="Άλλη",H11,G11)) | N11: =N$3 -> 13838: Εξυπηρέτηση Οικιακών Πελατών & Καρτοκινητής (λήψη παραγγελιών, βλαβοληψία, παροχή πληροφοριών/βοήθειας) 13839: Εξυπηρέτηση Εταιρικών Πελατών (λήψη παραγγελιών, βλαβοληψία, παροχή πληροφοριών/βοήιθειας) 1255: Εξυπηρέτηση Ευρυζωνικών Υπηρεσιών (ADSL) (παροχή πληροφοριών) 1250: Υπηρεσία Γενικών Πληροφοριών COSMOTE και Αναγγελία Βλαβών 1299: Εξυπηρέτηση Πελατών Frog (λήψη παραγγελιών, βλαβοληψία, παροχή πληροφοριών/βοήθειας) 1290: Βλαβοληψία Frog | P11: =IF(Q11="","","ΣΦΑΛΜΑ") | Q11: =IF(G11="","",CONCATENATE(IF(AND(FALSE,W11<>0),"Σφάλμα ημερομηνίας",""),IF(I11=""," | Πρέπει να επιλεγεί υπηρεσία",""),IF(J11=""," | Πρέπει να επιλεγεί μέσο",""),IF(K11=""," | Πρέπει να αναγραφούν τα στοιχεία μέσου",""),IF(L11=""," | Πρέπει να αναγραφεί η χρέωση του μέσου",""),IF(M11=""," | Πρέπει να αναγραφεί ωράριο λειτουργίας",""), IF(AND(ISNUMBER(K11)=FALSE,OR(J11="Τηλέφωνο",J11="Fax"))," | Τα στοιχεία μέσου (αριθμός τηλεφώνου ή fax) πρέπει να είναι αριθμός",""))) | R11: =TEXT($C$3,"ηη/ΜΜ/εεεε") -> 01/01/2019 | S11: =VALUE(LEFT(R11,2)) -> 1 | T11: =VALUE(MID(R11,4,2)) -> 1 | U11: =VALUE(RIGHT(R11,4)) -> 2019 | V11: =IF(LEN((R11)=10),0,1)+IF(AND(S11>0,S11<32),0,1)+IF(AND(T11>0,T11<13),0,1)+IF(AND(U11>2000,U11<2030),0,1) -> 0 | W11: =IF(ISERR(V11),1,V11) -> 0
A12: =A$3 -> H01 | B12: =B$3 -> COSMOTE | C12: =C$3 -> 43466 | D12: =IF(AND(G12<>"",P12=""),IF(ΓΕΝΙΚΑ!$B$14="ΝΑΙ",15300,""),"") | E12: =IF(ΓΕΝΙΚΑ!$B$14="ΝΑΙ","ΠΑΝΕΛΛΑΔΙΚΑ","") -> ΠΑΝΕΛΛΑΔΙΚΑ | F12: ΠΑΝΕΛΛΑΔΙΚΑ | I12: =IF(G12="","",IF(G12="Άλλη",H12,G12)) | N12: =N$3 -> 13838: Εξυπηρέτηση Οικιακών Πελατών & Καρτοκινητής (λήψη παραγγελιών, βλαβοληψία, παροχή πληροφοριών/βοήθειας) 13839: Εξυπηρέτηση Εταιρικών Πελατών (λήψη παραγγελιών, βλαβοληψία, παροχή πληροφοριών/βοήιθειας) 1255: Εξυπηρέτηση Ευρυζωνικών Υπηρεσιών (ADSL) (παροχή πληροφοριών) 1250: Υπηρεσία Γενικών Πληροφοριών COSMOTE και Αναγγελία Βλαβών 1299: Εξυπηρέτηση Πελατών Frog (λήψη παραγγελιών, βλαβοληψία, παροχή πληροφοριών/βοήθειας) 1290: Βλαβοληψία Frog | P12: =IF(Q12="","","ΣΦΑΛΜΑ") | Q12: =IF(G12="","",CONCATENATE(IF(AND(FALSE,W12<>0),"Σφάλμα ημερομηνίας",""),IF(I12=""," | Πρέπει να επιλεγεί υπηρεσία",""),IF(J12=""," | Πρέπει να επιλεγεί μέσο",""),IF(K12=""," | Πρέπει να αναγραφούν τα στοιχεία μέσου",""),IF(L12=""," | Πρέπει να αναγραφεί η χρέωση του μέσου",""),IF(M12=""," | Πρέπει να αναγραφεί ωράριο λειτουργίας",""), IF(AND(ISNUMBER(K12)=FALSE,OR(J12="Τηλέφωνο",J12="Fax"))," | Τα στοιχεία μέσου (αριθμός τηλεφώνου ή fax) πρέπει να είναι αριθμός",""))) | R12: =TEXT($C$3,"ηη/ΜΜ/εεεε") -> 01/01/2019 | S12: =VALUE(LEFT(R12,2)) -> 1 | T12: =VALUE(MID(R12,4,2)) -> 1 | U12: =VALUE(RIGHT(R12,4)) -> 2019 | V12: =IF(LEN((R12)=10),0,1)+IF(AND(S12>0,S12<32),0,1)+IF(AND(T12>0,T12<13),0,1)+IF(AND(U12>2000,U12<2030),0,1) -> 0 | W12: =IF(ISERR(V12),1,V12) -> 0
A13: =A$3 -> H01 | B13: =B$3 -> COSMOTE | C13: =C$3 -> 43466 | D13: =IF(AND(G13<>"",P13=""),IF(ΓΕΝΙΚΑ!$B$14="ΝΑΙ",15300,""),"") | E13: =IF(ΓΕΝΙΚΑ!$B$14="ΝΑΙ","ΠΑΝΕΛΛΑΔΙΚΑ","") -> ΠΑΝΕΛΛΑΔΙΚΑ | F13: ΠΑΝΕΛΛΑΔΙΚΑ | I13: =IF(G13="","",IF(G13="Άλλη",H13,G13)) | N13: =N$3 -> 13838: Εξυπηρέτηση Οικιακών Πελατών & Καρτοκινητής (λήψη παραγγελιών, βλαβοληψία, παροχή πληροφοριών/βοήθειας) 13839: Εξυπηρέτηση Εταιρικών Πελατών (λήψη παραγγελιών, βλαβοληψία, παροχή πληροφοριών/βοήιθειας) 1255: Εξυπηρέτηση Ευρυζωνικών Υπηρεσιών (ADSL) (παροχή πληροφοριών) 1250: Υπηρεσία Γενικών Πληροφοριών COSMOTE και Αναγγελία Βλαβών 1299: Εξυπηρέτηση Πελατών Frog (λήψη παραγγελιών, βλαβοληψία, παροχή πληροφοριών/βοήθειας) 1290: Βλαβοληψία Frog | P13: =IF(Q13="","","ΣΦΑΛΜΑ") | Q13: =IF(G13="","",CONCATENATE(IF(AND(FALSE,W13<>0),"Σφάλμα ημερομηνίας",""),IF(I13=""," | Πρέπει να επιλεγεί υπηρεσία",""),IF(J13=""," | Πρέπει να επιλεγεί μέσο",""),IF(K13=""," | Πρέπει να αναγραφούν τα στοιχεία μέσου",""),IF(L13=""," | Πρέπει να αναγραφεί η χρέωση του μέσου",""),IF(M13=""," | Πρέπει να αναγραφεί ωράριο λειτουργίας",""), IF(AND(ISNUMBER(K13)=FALSE,OR(J13="Τηλέφωνο",J13="Fax"))," | Τα στοιχεία μέσου (αριθμός τηλεφώνου ή fax) πρέπει να είναι αριθμός",""))) | R13: =TEXT($C$3,"ηη/ΜΜ/εεεε") -> 01/01/2019 | S13: =VALUE(LEFT(R13,2)) -> 1 | T13: =VALUE(MID(R13,4,2)) -> 1 | U13: =VALUE(RIGHT(R13,4)) -> 2019 | V13: =IF(LEN((R13)=10),0,1)+IF(AND(S13>0,S13<32),0,1)+IF(AND(T13>0,T13<13),0,1)+IF(AND(U13>2000,U13<2030),0,1) -> 0 | W13: =IF(ISERR(V13),1,V13) -> 0
A14: =A$3 -> H01 | B14: =B$3 -> COSMOTE | C14: =C$3 -> 43466 | D14: =IF(AND(G14<>"",P14=""),IF(ΓΕΝΙΚΑ!$B$14="ΝΑΙ",15300,""),"") | E14: =IF(ΓΕΝΙΚΑ!$B$14="ΝΑΙ","ΠΑΝΕΛΛΑΔΙΚΑ","") -> ΠΑΝΕΛΛΑΔΙΚΑ | F14: ΠΑΝΕΛΛΑΔΙΚΑ | I14: =IF(G14="","",IF(G14="Άλλη",H14,G14)) | N14: =N$3 -> 13838: Εξυπηρέτηση Οικιακών Πελατών & Καρτοκινητής (λήψη παραγγελιών, βλαβοληψία, παροχή πληροφοριών/βοήθειας) 13839: Εξυπηρέτηση Εταιρικών Πελατών (λήψη παραγγελιών, βλαβοληψία, παροχή πληροφοριών/βοήιθειας) 1255: Εξυπηρέτηση Ευρυζωνικών Υπηρεσιών (ADSL) (παροχή πληροφοριών) 1250: Υπηρεσία Γενικών Πληροφοριών COSMOTE και Αναγγελία Βλαβών 1299: Εξυπηρέτηση Πελατών Frog (λήψη παραγγελιών, βλαβοληψία, παροχή πληροφοριών/βοήθειας) 1290: Βλαβοληψία Frog | P14: =IF(Q14="","","ΣΦΑΛΜΑ") | Q14: =IF(G14="","",CONCATENATE(IF(AND(FALSE,W14<>0),"Σφάλμα ημερομηνίας",""),IF(I14=""," | Πρέπει να επιλεγεί υπηρεσία",""),IF(J14=""," | Πρέπει να επιλεγεί μέσο",""),IF(K14=""," | Πρέπει να αναγραφούν τα στοιχεία μέσου",""),IF(L14=""," | Πρέπει να αναγραφεί η χρέωση του μέσου",""),IF(M14=""," | Πρέπει να αναγραφεί ωράριο λειτουργίας",""), IF(AND(ISNUMBER(K14)=FALSE,OR(J14="Τηλέφωνο",J14="Fax"))," | Τα στοιχεία μέσου (αριθμός τηλεφώνου ή fax) πρέπει να είναι αριθμός",""))) | R14: =TEXT($C$3,"ηη/ΜΜ/εεεε") -> 01/01/2019 | S14: =VALUE(LEFT(R14,2)) -> 1 | T14: =VALUE(MID(R14,4,2)) -> 1 | U14: =VALUE(RIGHT(R14,4)) -> 2019 | V14: =IF(LEN((R14)=10),0,1)+IF(AND(S14>0,S14<32),0,1)+IF(AND(T14>0,T14<13),0,1)+IF(AND(U14>2000,U14<2030),0,1) -> 0 | W14: =IF(ISERR(V14),1,V14) -> 0
A15: =A$3 -> H01 | B15: =B$3 -> COSMOTE | C15: =C$3 -> 43466 | D15: =IF(AND(G15<>"",P15=""),IF(ΓΕΝΙΚΑ!$B$14="ΝΑΙ",15300,""),"") | E15: =IF(ΓΕΝΙΚΑ!$B$14="ΝΑΙ","ΠΑΝΕΛΛΑΔΙΚΑ","") -> ΠΑΝΕΛΛΑΔΙΚΑ | F15: ΠΑΝΕΛΛΑΔΙΚΑ | I15: =IF(G15="","",IF(G15="Άλλη",H15,G15)) | N15: =N$3 -> 13838: Εξυπηρέτηση Οικιακών Πελατών & Καρτοκινητής (λήψη παραγγελιών, βλαβοληψία, παροχή πληροφοριών/βοήθειας) 13839: Εξυπηρέτηση Εταιρικών Πελατών (λήψη παραγγελιών, βλαβοληψία, παροχή πληροφοριών/βοήιθειας) 1255: Εξυπηρέτηση Ευρυζωνικών Υπηρεσιών (ADSL) (παροχή πληροφοριών) 1250: Υπηρεσία Γενικών Πληροφοριών COSMOTE και Αναγγελία Βλαβών 1299: Εξυπηρέτηση Πελατών Frog (λήψη παραγγελιών, βλαβοληψία, παροχή πληροφοριών/βοήθειας) 1290: Βλαβοληψία Frog | P15: =IF(Q15="","","ΣΦΑΛΜΑ") | Q15: =IF(G15="","",CONCATENATE(IF(AND(FALSE,W15<>0),"Σφάλμα ημερομηνίας",""),IF(I15=""," | Πρέπει να επιλεγεί υπηρεσία",""),IF(J15=""," | Πρέπει να επιλεγεί μέσο",""),IF(K15=""," | Πρέπει να αναγραφούν τα στοιχεία μέσου",""),IF(L15=""," | Πρέπει να αναγραφεί η χρέωση του μέσου",""),IF(M15=""," | Πρέπει να αναγραφεί ωράριο λειτουργίας",""), IF(AND(ISNUMBER(K15)=FALSE,OR(J15="Τηλέφωνο",J15="Fax"))," | Τα στοιχεία μέσου (αριθμός τηλεφώνου ή fax) πρέπει να είναι αριθμός",""))) | R15: =TEXT($C$3,"ηη/ΜΜ/εεεε") -> 01/01/2019 | S15: =VALUE(LEFT(R15,2)) -> 1 | T15: =VALUE(MID(R15,4,2)) -> 1 | U15: =VALUE(RIGHT(R15,4)) -> 2019 | V15: =IF(LEN((R15)=10),0,1)+IF(AND(S15>0,S15<32),0,1)+IF(AND(T15>0,T15<13),0,1)+IF(AND(U15>2000,U15<2030),0,1) -> 0 | W15: =IF(ISERR(V15),1,V15) -> 0
A16: =A$3 -> H01 | B16: =B$3 -> COSMOTE | C16: =C$3 -> 43466 | D16: =IF(AND(G16<>"",P16=""),IF(ΓΕΝΙΚΑ!$B$14="ΝΑΙ",15300,""),"") | E16: =IF(ΓΕΝΙΚΑ!$B$14="ΝΑΙ","ΠΑΝΕΛΛΑΔΙΚΑ","") -> ΠΑΝΕΛΛΑΔΙΚΑ | F16: ΠΑΝΕΛΛΑΔΙΚΑ | I16: =IF(G16="","",IF(G16="Άλλη",H16,G16)) | N16: =N$3 -> 13838: Εξυπηρέτηση Οικιακών Πελατών & Καρτοκινητής (λήψη παραγγελιών, βλαβοληψία, παροχή πληροφοριών/βοήθειας) 13839: Εξυπηρέτηση Εταιρικών Πελατών (λήψη παραγγελιών, βλαβοληψία, παροχή πληροφοριών/βοήιθειας) 1255: Εξυπηρέτηση Ευρυζωνικών Υπηρεσιών (ADSL) (παροχή πληροφοριών) 1250: Υπηρεσία Γενικών Πληροφοριών COSMOTE και Αναγγελία Βλαβών 1299: Εξυπηρέτηση Πελατών Frog (λήψη παραγγελιών, βλαβοληψία, παροχή πληροφοριών/βοήθειας) 1290: Βλαβοληψία Frog | P16: =IF(Q16="","","ΣΦΑΛΜΑ") | Q16: =IF(G16="","",CONCATENATE(IF(AND(FALSE,W16<>0),"Σφάλμα ημερομηνίας",""),IF(I16=""," | Πρέπει να επιλεγεί υπηρεσία",""),IF(J16=""," | Πρέπει να επιλεγεί μέσο",""),IF(K16=""," | Πρέπει να αναγραφούν τα στοιχεία μέσου",""),IF(L16=""," | Πρέπει να αναγραφεί η χρέωση του μέσου",""),IF(M16=""," | Πρέπει να αναγραφεί ωράριο λειτουργίας",""), IF(AND(ISNUMBER(K16)=FALSE,OR(J16="Τηλέφωνο",J16="Fax"))," | Τα στοιχεία μέσου (αριθμός τηλεφώνου ή fax) πρέπει να είναι αριθμός",""))) | R16: =TEXT($C$3,"ηη/ΜΜ/εεεε") -> 01/01/2019 | S16: =VALUE(LEFT(R16,2)) -> 1 | T16: =VALUE(MID(R16,4,2)) -> 1 | U16: =VALUE(RIGHT(R16,4)) -> 2019 | V16: =IF(LEN((R16)=10),0,1)+IF(AND(S16>0,S16<32),0,1)+IF(AND(T16>0,T16<13),0,1)+IF(AND(U16>2000,U16<2030),0,1) -> 0 | W16: =IF(ISERR(V16),1,V16) -> 0
A17: =A$3 -> H01 | B17: =B$3 -> COSMOTE | C17: =C$3 -> 43466 | D17: =IF(AND(G17<>"",P17=""),IF(ΓΕΝΙΚΑ!$B$14="ΝΑΙ",15300,""),"") | E17: =IF(ΓΕΝΙΚΑ!$B$14="ΝΑΙ","ΠΑΝΕΛΛΑΔΙΚΑ","") -> ΠΑΝΕΛΛΑΔΙΚΑ | F17: ΠΑΝΕΛΛΑΔΙΚΑ | I17: =IF(G17="","",IF(G17="Άλλη",H17,G17)) | N17: =N$3 -> 13838: Εξυπηρέτηση Οικιακών Πελατών & Καρτοκινητής (λήψη παραγγελιών, βλαβοληψία, παροχή πληροφοριών/βοήθειας) 13839: Εξυπηρέτηση Εταιρικών Πελατών (λήψη παραγγελιών, βλαβοληψία, παροχή πληροφοριών/βοήιθειας) 1255: Εξυπηρέτηση Ευρυζωνικών Υπηρεσιών (ADSL) (παροχή πληροφοριών) 1250: Υπηρεσία Γενικών Πληροφοριών COSMOTE και Αναγγελία Βλαβών 1299: Εξυπηρέτηση Πελατών Frog (λήψη παραγγελιών, βλαβοληψία, παροχή πληροφοριών/βοήθειας) 1290: Βλαβοληψία Frog | P17: =IF(Q17="","","ΣΦΑΛΜΑ") | Q17: =IF(G17="","",CONCATENATE(IF(AND(FALSE,W17<>0),"Σφάλμα ημερομηνίας",""),IF(I17=""," | Πρέπει να επιλεγεί υπηρεσία",""),IF(J17=""," | Πρέπει να επιλεγεί μέσο",""),IF(K17=""," | Πρέπει να αναγραφούν τα στοιχεία μέσου",""),IF(L17=""," | Πρέπει να αναγραφεί η χρέωση του μέσου",""),IF(M17=""," | Πρέπει να αναγραφεί ωράριο λειτουργίας",""), IF(AND(ISNUMBER(K17)=FALSE,OR(J17="Τηλέφωνο",J17="Fax"))," | Τα στοιχεία μέσου (αριθμός τηλεφώνου ή fax) πρέπει να είναι αριθμός",""))) | R17: =TEXT($C$3,"ηη/ΜΜ/εεεε") -> 01/01/2019 | S17: =VALUE(LEFT(R17,2)) -> 1 | T17: =VALUE(MID(R17,4,2)) -> 1 | U17: =VALUE(RIGHT(R17,4)) -> 2019 | V17: =IF(LEN((R17)=10),0,1)+IF(AND(S17>0,S17<32),0,1)+IF(AND(T17>0,T17<13),0,1)+IF(AND(U17>2000,U17<2030),0,1) -> 0 | W17: =IF(ISERR(V17),1,V17) -> 0
D18: =IF(AND(G18<>"",P18=""),IF(ΓΕΝΙΚΑ!$B$14="ΝΑΙ",15300,""),"") | E18: =IF(ΓΕΝΙΚΑ!$B$14="ΝΑΙ","ΠΑΝΕΛΛΑΔΙΚΑ","") -> ΠΑΝΕΛΛΑΔΙΚΑ | F18: ΠΑΝΕΛΛΑΔΙΚΑ | I18: =IF(G18="","",IF(G18="Άλλη",H18,G18)) | N18: =N$3 -> 13838: Εξυπηρέτηση Οικιακών Πελατών & Καρτοκινητής (λήψη παραγγελιών, βλαβοληψία, παροχή πληροφοριών/βοήθειας) 13839: Εξυπηρέτηση Εταιρικών Πελατών (λήψη παραγγελιών, βλαβοληψία, παροχή πληροφοριών/βοήιθειας) 1255: Εξυπηρέτηση Ευρυζωνικών Υπηρεσιών (ADSL) (παροχή πληροφοριών) 1250: Υπηρεσία Γενικών Πληροφοριών COSMOTE και Αναγγελία Βλαβών 1299: Εξυπηρέτηση Πελατών Frog (λήψη παραγγελιών, βλαβοληψία, παροχή πληροφοριών/βοήθειας) 1290: Βλαβοληψία Frog | P18: =IF(Q18="","","ΣΦΑΛΜΑ") | Q18: =IF(G18="","",CONCATENATE(IF(AND(FALSE,W18<>0),"Σφάλμα ημερομηνίας",""),IF(I18=""," | Πρέπει να επιλεγεί υπηρεσία",""),IF(J18=""," | Πρέπει να επιλεγεί μέσο",""),IF(K18=""," | Πρέπει να αναγραφούν τα στοιχεία μέσου",""),IF(L18=""," | Πρέπει να αναγραφεί η χρέωση του μέσου",""),IF(M18=""," | Πρέπει να αναγραφεί ωράριο λειτουργίας",""), IF(AND(ISNUMBER(K18)=FALSE,OR(J18="Τηλέφωνο",J18="Fax"))," | Τα στοιχεία μέσου (αριθμός τηλεφώνου ή fax) πρέπει να είναι αριθμός",""))) | R18: =TEXT($C$3,"ηη/ΜΜ/εεεε") -> 01/01/2019 | S18: =VALUE(LEFT(R18,2)) -> 1 | T18: =VALUE(MID(R18,4,2)) -> 1 | U18: =VALUE(RIGHT(R18,4)) -> 2019 | V18: =IF(LEN((R18)=10),0,1)+IF(AND(S18>0,S18<32),0,1)+IF(AND(T18>0,T18<13),0,1)+IF(AND(U18>2000,U18<2030),0,1) -> 0 | W18: =IF(ISERR(V18),1,V18) -> 0
D19: =IF(AND(G19<>"",P19=""),IF(ΓΕΝΙΚΑ!$B$14="ΝΑΙ",15300,""),"") | E19: =IF(ΓΕΝΙΚΑ!$B$14="ΝΑΙ","ΠΑΝΕΛΛΑΔΙΚΑ","") -> ΠΑΝΕΛΛΑΔΙΚΑ | F19: ΠΑΝΕΛΛΑΔΙΚΑ | I19: =IF(G19="","",IF(G19="Άλλη",H19,G19)) | N19: =N$3 -> 13838: Εξυπηρέτηση Οικιακών Πελατών & Καρτοκινητής (λήψη παραγγελιών, βλαβοληψία, παροχή πληροφοριών/βοήθειας) 13839: Εξυπηρέτηση Εταιρικών Πελατών (λήψη παραγγελιών, βλαβοληψία, παροχή πληροφοριών/βοήιθειας) 1255: Εξυπηρέτηση Ευρυζωνικών Υπηρεσιών (ADSL) (παροχή πληροφοριών) 1250: Υπηρεσία Γενικών Πληροφοριών COSMOTE και Αναγγελία Βλαβών 1299: Εξυπηρέτηση Πελατών Frog (λήψη παραγγελιών, βλαβοληψία, παροχή πληροφοριών/βοήθειας) 1290: Βλαβοληψία Frog | P19: =IF(Q19="","","ΣΦΑΛΜΑ") | Q19: =IF(G19="","",CONCATENATE(IF(AND(FALSE,W19<>0),"Σφάλμα ημερομηνίας",""),IF(I19=""," | Πρέπει να επιλεγεί υπηρεσία",""),IF(J19=""," | Πρέπει να επιλεγεί μέσο",""),IF(K19=""," | Πρέπει να αναγραφούν τα στοιχεία μέσου",""),IF(L19=""," | Πρέπει να αναγραφεί η χρέωση του μέσου",""),IF(M19=""," | Πρέπει να αναγραφεί ωράριο λειτουργίας",""), IF(AND(ISNUMBER(K19)=FALSE,OR(J19="Τηλέφωνο",J19="Fax"))," | Τα στοιχεία μέσου (αριθμός τηλεφώνου ή fax) πρέπει να είναι αριθμός",""))) | R19: =TEXT($C$3,"ηη/ΜΜ/εεεε") -> 01/01/2019 | S19: =VALUE(LEFT(R19,2)) -> 1 | T19: =VALUE(MID(R19,4,2)) -> 1 | U19: =VALUE(RIGHT(R19,4)) -> 2019 | V19: =IF(LEN((R19)=10),0,1)+IF(AND(S19>0,S19<32),0,1)+IF(AND(T19>0,T19<13),0,1)+IF(AND(U19>2000,U19<2030),0,1) -> 0 | W19: =IF(ISERR(V19),1,V19) -> 0
D20: =IF(AND(G20<>"",P20=""),IF(ΓΕΝΙΚΑ!$B$14="ΝΑΙ",15300,""),"") | E20: =IF(ΓΕΝΙΚΑ!$B$14="ΝΑΙ","ΠΑΝΕΛΛΑΔΙΚΑ","") -> ΠΑΝΕΛΛΑΔΙΚΑ | F20: ΠΑΝΕΛΛΑΔΙΚΑ | I20: =IF(G20="","",IF(G20="Άλλη",H20,G20)) | N20: =N$3 -> 13838: Εξυπηρέτηση Οικιακών Πελατών & Καρτοκινητής (λήψη παραγγελιών, βλαβοληψία, παροχή πληροφοριών/βοήθειας) 13839: Εξυπηρέτηση Εταιρικών Πελατών (λήψη παραγγελιών, βλαβοληψία, παροχή πληροφοριών/βοήιθειας) 1255: Εξυπηρέτηση Ευρυζωνικών Υπηρεσιών (ADSL) (παροχή πληροφοριών) 1250: Υπηρεσία Γενικών Πληροφοριών COSMOTE και Αναγγελία Βλαβών 1299: Εξυπηρέτηση Πελατών Frog (λήψη παραγγελιών, βλαβοληψία, παροχή πληροφοριών/βοήθειας) 1290: Βλαβοληψία Frog | P20: =IF(Q20="","","ΣΦΑΛΜΑ") | Q20: =IF(G20="","",CONCATENATE(IF(AND(FALSE,W20<>0),"Σφάλμα ημερομηνίας",""),IF(I20=""," | Πρέπει να επιλεγεί υπηρεσία",""),IF(J20=""," | Πρέπει να επιλεγεί μέσο",""),IF(K20=""," | Πρέπει να αναγραφούν τα στοιχεία μέσου",""),IF(L20=""," | Πρέπει να αναγραφεί η χρέωση του μέσου",""),IF(M20=""," | Πρέπει να αναγραφεί ωράριο λειτουργίας",""), IF(AND(ISNUMBER(K20)=FALSE,OR(J20="Τηλέφωνο",J20="Fax"))," | Τα στοιχεία μέσου (αριθμός τηλεφώνου ή fax) πρέπει να είναι αριθμός",""))) | R20: =TEXT($C$3,"ηη/ΜΜ/εεεε") -> 01/01/2019 | S20: =VALUE(LEFT(R20,2)) -> 1 | T20: =VALUE(MID(R20,4,2)) -> 1 | U20: =VALUE(RIGHT(R20,4)) -> 2019 | V20: =IF(LEN((R20)=10),0,1)+IF(AND(S20>0,S20<32),0,1)+IF(AND(T20>0,T20<13),0,1)+IF(AND(U20>2000,U20<2030),0,1) -> 0 | W20: =IF(ISERR(V20),1,V20) -> 0
D21: =IF(AND(G21<>"",P21=""),IF(ΓΕΝΙΚΑ!$B$14="ΝΑΙ",15300,""),"") | E21: =IF(ΓΕΝΙΚΑ!$B$14="ΝΑΙ","ΠΑΝΕΛΛΑΔΙΚΑ","") -> ΠΑΝΕΛΛΑΔΙΚΑ | F21: ΠΑΝΕΛΛΑΔΙΚΑ | I21: =IF(G21="","",IF(G21="Άλλη",H21,G21)) | N21: =N$3 -> 13838: Εξυπηρέτηση Οικιακών Πελατών & Καρτοκινητής (λήψη παραγγελιών, βλαβοληψία, παροχή πληροφοριών/βοήθειας) 13839: Εξυπηρέτηση Εταιρικών Πελατών (λήψη παραγγελιών, βλαβοληψία, παροχή πληροφοριών/βοήιθειας) 1255: Εξυπηρέτηση Ευρυζωνικών Υπηρεσιών (ADSL) (παροχή πληροφοριών) 1250: Υπηρεσία Γενικών Πληροφοριών COSMOTE και Αναγγελία Βλαβών 1299: Εξυπηρέτηση Πελατών Frog (λήψη παραγγελιών, βλαβοληψία, παροχή πληροφοριών/βοήθειας) 1290: Βλαβοληψία Frog | P21: =IF(Q21="","","ΣΦΑΛΜΑ") | Q21: =IF(G21="","",CONCATENATE(IF(AND(FALSE,W21<>0),"Σφάλμα ημερομηνίας",""),IF(I21=""," | Πρέπει να επιλεγεί υπηρεσία",""),IF(J21=""," | Πρέπει να επιλεγεί μέσο",""),IF(K21=""," | Πρέπει να αναγραφούν τα στοιχεία μέσου",""),IF(L21=""," | Πρέπει να αναγραφεί η χρέωση του μέσου",""),IF(M21=""," | Πρέπει να αναγραφεί ωράριο λειτουργίας",""), IF(AND(ISNUMBER(K21)=FALSE,OR(J21="Τηλέφωνο",J21="Fax"))," | Τα στοιχεία μέσου (αριθμός τηλεφώνου ή fax) πρέπει να είναι αριθμός",""))) | R21: =TEXT($C$3,"ηη/ΜΜ/εεεε") -> 01/01/2019 | S21: =VALUE(LEFT(R21,2)) -> 1 | T21: =VALUE(MID(R21,4,2)) -> 1 | U21: =VALUE(RIGHT(R21,4)) -> 2019 | V21: =IF(LEN((R21)=10),0,1)+IF(AND(S21>0,S21<32),0,1)+IF(AND(T21>0,T21<13),0,1)+IF(AND(U21>2000,U21<2030),0,1) -> 0 | W21: =IF(ISERR(V21),1,V21) -> 0
D22: =IF(AND(G22<>"",P22=""),IF(ΓΕΝΙΚΑ!$B$14="ΝΑΙ",15300,""),"") | E22: =IF(ΓΕΝΙΚΑ!$B$14="ΝΑΙ","ΠΑΝΕΛΛΑΔΙΚΑ","") -> ΠΑΝΕΛΛΑΔΙΚΑ | F22: ΠΑΝΕΛΛΑΔΙΚΑ | I22: =IF(G22="","",IF(G22="Άλλη",H22,G22)) | N22: =N$3 -> 13838: Εξυπηρέτηση Οικιακών Πελατών & Καρτοκινητής (λήψη παραγγελιών, βλαβοληψία, παροχή πληροφοριών/βοήθειας) 13839: Εξυπηρέτηση Εταιρικών Πελατών (λήψη παραγγελιών, βλαβοληψία, παροχή πληροφοριών/βοήιθειας) 1255: Εξυπηρέτηση Ευρυζωνικών Υπηρεσιών (ADSL) (παροχή πληροφοριών) 1250: Υπηρεσία Γενικών Πληροφοριών COSMOTE και Αναγγελία Βλαβών 1299: Εξυπηρέτηση Πελατών Frog (λήψη παραγγελιών, βλαβοληψία, παροχή πληροφοριών/βοήθειας) 1290: Βλαβοληψία Frog | P22: =IF(Q22="","","ΣΦΑΛΜΑ") | Q22: =IF(G22="","",CONCATENATE(IF(AND(FALSE,W22<>0),"Σφάλμα ημερομηνίας",""),IF(I22=""," | Πρέπει να επιλεγεί υπηρεσία",""),IF(J22=""," | Πρέπει να επιλεγεί μέσο",""),IF(K22=""," | Πρέπει να αναγραφούν τα στοιχεία μέσου",""),IF(L22=""," | Πρέπει να αναγραφεί η χρέωση του μέσου",""),IF(M22=""," | Πρέπει να αναγραφεί ωράριο λειτουργίας",""), IF(AND(ISNUMBER(K22)=FALSE,OR(J22="Τηλέφωνο",J22="Fax"))," | Τα στοιχεία μέσου (αριθμός τηλεφώνου ή fax) πρέπει να είναι αριθμός",""))) | R22: =TEXT($C$3,"ηη/ΜΜ/εεεε") -> 01/01/2019 | S22: =VALUE(LEFT(R22,2)) -> 1 | T22: =VALUE(MID(R22,4,2)) -> 1 | U22: =VALUE(RIGHT(R22,4)) -> 2019 | V22: =IF(LEN((R22)=10),0,1)+IF(AND(S22>0,S22<32),0,1)+IF(AND(T22>0,T22<13),0,1)+IF(AND(U22>2000,U22<2030),0,1) -> 0 | W22: =IF(ISERR(V22),1,V22) -> 0
D23: =IF(AND(G23<>"",P23=""),IF(ΓΕΝΙΚΑ!$B$14="ΝΑΙ",15300,""),"") | E23: =IF(ΓΕΝΙΚΑ!$B$14="ΝΑΙ","ΠΑΝΕΛΛΑΔΙΚΑ","") -> ΠΑΝΕΛΛΑΔΙΚΑ | F23: ΠΑΝΕΛΛΑΔΙΚΑ | I23: =IF(G23="","",IF(G23="Άλλη",H23,G23)) | N23: =N$3 -> 13838: Εξυπηρέτηση Οικιακών Πελατών & Καρτοκινητής (λήψη παραγγελιών, βλαβοληψία, παροχή πληροφοριών/βοήθειας) 13839: Εξυπηρέτηση Εταιρικών Πελατών (λήψη παραγγελιών, βλαβοληψία, παροχή πληροφοριών/βοήιθειας) 1255: Εξυπηρέτηση Ευρυζωνικών Υπηρεσιών (ADSL) (παροχή πληροφοριών) 1250: Υπηρεσία Γενικών Πληροφοριών COSMOTE και Αναγγελία Βλαβών 1299: Εξυπηρέτηση Πελατών Frog (λήψη παραγγελιών, βλαβοληψία, παροχή πληροφοριών/βοήθειας) 1290: Βλαβοληψία Frog | P23: =IF(Q23="","","ΣΦΑΛΜΑ") | Q23: =IF(G23="","",CONCATENATE(IF(AND(FALSE,W23<>0),"Σφάλμα ημερομηνίας",""),IF(I23=""," | Πρέπει να επιλεγεί υπηρεσία",""),IF(J23=""," | Πρέπει να επιλεγεί μέσο",""),IF(K23=""," | Πρέπει να αναγραφούν τα στοιχεία μέσου",""),IF(L23=""," | Πρέπει να αναγραφεί η χρέωση του μέσου",""),IF(M23=""," | Πρέπει να αναγραφεί ωράριο λειτουργίας",""), IF(AND(ISNUMBER(K23)=FALSE,OR(J23="Τηλέφωνο",J23="Fax"))," | Τα στοιχεία μέσου (αριθμός τηλεφώνου ή fax) πρέπει να είναι αριθμός",""))) | R23: =TEXT($C$3,"ηη/ΜΜ/εεεε") -> 01/01/2019 | S23: =VALUE(LEFT(R23,2)) -> 1 | T23: =VALUE(MID(R23,4,2)) -> 1 | U23: =VALUE(RIGHT(R23,4)) -> 2019 | V23: =IF(LEN((R23)=10),0,1)+IF(AND(S23>0,S23<32),0,1)+IF(AND(T23>0,T23<13),0,1)+IF(AND(U23>2000,U23<2030),0,1) -> 0 | W23: =IF(ISERR(V23),1,V23) -> 0
D24: =IF(AND(G24<>"",P24=""),IF(ΓΕΝΙΚΑ!$B$14="ΝΑΙ",15300,""),"") | E24: =IF(ΓΕΝΙΚΑ!$B$14="ΝΑΙ","ΠΑΝΕΛΛΑΔΙΚΑ","") -> ΠΑΝΕΛΛΑΔΙΚΑ | F24: ΠΑΝΕΛΛΑΔΙΚΑ | I24: =IF(G24="","",IF(G24="Άλλη",H24,G24)) | N24: =N$3 -> 13838: Εξυπηρέτηση Οικιακών Πελατών & Καρτοκινητής (λήψη παραγγελιών, βλαβοληψία, παροχή πληροφοριών/βοήθειας) 13839: Εξυπηρέτηση Εταιρικών Πελατών (λήψη παραγγελιών, βλαβοληψία, παροχή πληροφοριών/βοήιθειας) 1255: Εξυπηρέτηση Ευρυζωνικών Υπηρεσιών (ADSL) (παροχή πληροφοριών) 1250: Υπηρεσία Γενικών Πληροφοριών COSMOTE και Αναγγελία Βλαβών 1299: Εξυπηρέτηση Πελατών Frog (λήψη παραγγελιών, βλαβοληψία, παροχή πληροφοριών/βοήθειας) 1290: Βλαβοληψία Frog | P24: =IF(Q24="","","ΣΦΑΛΜΑ") | Q24: =IF(G24="","",CONCATENATE(IF(AND(FALSE,W24<>0),"Σφάλμα ημερομηνίας",""),IF(I24=""," | Πρέπει να επιλεγεί υπηρεσία",""),IF(J24=""," | Πρέπει να επιλεγεί μέσο",""),IF(K24=""," | Πρέπει να αναγραφούν τα στοιχεία μέσου",""),IF(L24=""," | Πρέπει να αναγραφεί η χρέωση του μέσου",""),IF(M24=""," | Πρέπει να αναγραφεί ωράριο λειτουργίας",""), IF(AND(ISNUMBER(K24)=FALSE,OR(J24="Τηλέφωνο",J24="Fax"))," | Τα στοιχεία μέσου (αριθμός τηλεφώνου ή fax) πρέπει να είναι αριθμός",""))) | R24: =TEXT($C$3,"ηη/ΜΜ/εεεε") -> 01/01/2019 | S24: =VALUE(LEFT(R24,2)) -> 1 | T24: =VALUE(MID(R24,4,2)) -> 1 | U24: =VALUE(RIGHT(R24,4)) -> 2019 | V24: =IF(LEN((R24)=10),0,1)+IF(AND(S24>0,S24<32),0,1)+IF(AND(T24>0,T24<13),0,1)+IF(AND(U24>2000,U24<2030),0,1) -> 0 | W24: =IF(ISERR(V24),1,V24) -> 0
D25: =IF(AND(G25<>"",P25=""),IF(ΓΕΝΙΚΑ!$B$14="ΝΑΙ",15300,""),"") | E25: =IF(ΓΕΝΙΚΑ!$B$14="ΝΑΙ","ΠΑΝΕΛΛΑΔΙΚΑ","") -> ΠΑΝΕΛΛΑΔΙΚΑ | F25: ΠΑΝΕΛΛΑΔΙΚΑ | I25: =IF(G25="","",IF(G25="Άλλη",H25,G25)) | N25: =N$3 -> 13838: Εξυπηρέτηση Οικιακών Πελατών & Καρτοκινητής (λήψη παραγγελιών, βλαβοληψία, παροχή πληροφοριών/βοήθειας) 13839: Εξυπηρέτηση Εταιρικών Πελατών (λήψη παραγγελιών, βλαβοληψία, παροχή πληροφοριών/βοήιθειας) 1255: Εξυπηρέτηση Ευρυζωνικών Υπηρεσιών (ADSL) (παροχή πληροφοριών) 1250: Υπηρεσία Γενικών Πληροφοριών COSMOTE και Αναγγελία Βλαβών 1299: Εξυπηρέτηση Πελατών Frog (λήψη παραγγελιών, βλαβοληψία, παροχή πληροφοριών/βοήθειας) 1290: Βλαβοληψία Frog | P25: =IF(Q25="","","ΣΦΑΛΜΑ") | Q25: =IF(G25="","",CONCATENATE(IF(AND(FALSE,W25<>0),"Σφάλμα ημερομηνίας",""),IF(I25=""," | Πρέπει να επιλεγεί υπηρεσία",""),IF(J25=""," | Πρέπει να επιλεγεί μέσο",""),IF(K25=""," | Πρέπει να αναγραφούν τα στοιχεία μέσου",""),IF(L25=""," | Πρέπει να αναγραφεί η χρέωση του μέσου",""),IF(M25=""," | Πρέπει να αναγραφεί ωράριο λειτουργίας",""), IF(AND(ISNUMBER(K25)=FALSE,OR(J25="Τηλέφωνο",J25="Fax"))," | Τα στοιχεία μέσου (αριθμός τηλεφώνου ή fax) πρέπει να είναι αριθμός",""))) | R25: =TEXT($C$3,"ηη/ΜΜ/εεεε") -> 01/01/2019 | S25: =VALUE(LEFT(R25,2)) -> 1 | T25: =VALUE(MID(R25,4,2)) -> 1 | U25: =VALUE(RIGHT(R25,4)) -> 2019 | V25: =IF(LEN((R25)=10),0,1)+IF(AND(S25>0,S25<32),0,1)+IF(AND(T25>0,T25<13),0,1)+IF(AND(U25>2000,U25<2030),0,1) -> 0 | W25: =IF(ISERR(V25),1,V25) -> 0
D26: =IF(AND(G26<>"",P26=""),IF(ΓΕΝΙΚΑ!$B$14="ΝΑΙ",15300,""),"") | E26: =IF(ΓΕΝΙΚΑ!$B$14="ΝΑΙ","ΠΑΝΕΛΛΑΔΙΚΑ","") -> ΠΑΝΕΛΛΑΔΙΚΑ | F26: ΠΑΝΕΛΛΑΔΙΚΑ | I26: =IF(G26="","",IF(G26="Άλλη",H26,G26)) | N26: =N$3 -> 13838: Εξυπηρέτηση Οικιακών Πελατών & Καρτοκινητής (λήψη παραγγελιών, βλαβοληψία, παροχή πληροφοριών/βοήθειας) 13839: Εξυπηρέτηση Εταιρικών Πελατών (λήψη παραγγελιών, βλαβοληψία, παροχή πληροφοριών/βοήιθειας) 1255: Εξυπηρέτηση Ευρυζωνικών Υπηρεσιών (ADSL) (παροχή πληροφοριών) 1250: Υπηρεσία Γενικών Πληροφοριών COSMOTE και Αναγγελία Βλαβών 1299: Εξυπηρέτηση Πελατών Frog (λήψη παραγγελιών, βλαβοληψία, παροχή πληροφοριών/βοήθειας) 1290: Βλαβοληψία Frog | P26: =IF(Q26="","","ΣΦΑΛΜΑ") | Q26: =IF(G26="","",CONCATENATE(IF(AND(FALSE,W26<>0),"Σφάλμα ημερομηνίας",""),IF(I26=""," | Πρέπει να επιλεγεί υπηρεσία",""),IF(J26=""," | Πρέπει να επιλεγεί μέσο",""),IF(K26=""," | Πρέπει να αναγραφούν τα στοιχεία μέσου",""),IF(L26=""," | Πρέπει να αναγραφεί η χρέωση του μέσου",""),IF(M26=""," | Πρέπει να αναγραφεί ωράριο λειτουργίας",""), IF(AND(ISNUMBER(K26)=FALSE,OR(J26="Τηλέφωνο",J26="Fax"))," | Τα στοιχεία μέσου (αριθμός τηλεφώνου ή fax) πρέπει να είναι αριθμός",""))) | R26: =TEXT($C$3,"ηη/ΜΜ/εεεε") -> 01/01/2019 | S26: =VALUE(LEFT(R26,2)) -> 1 | T26: =VALUE(MID(R26,4,2)) -> 1 | U26: =VALUE(RIGHT(R26,4)) -> 2019 | V26: =IF(LEN((R26)=10),0,1)+IF(AND(S26>0,S26<32),0,1)+IF(AND(T26>0,T26<13),0,1)+IF(AND(U26>2000,U26<2030),0,1) -> 0 | W26: =IF(ISERR(V26),1,V26) -> 0
D27: =IF(AND(G27<>"",P27=""),IF(ΓΕΝΙΚΑ!$B$14="ΝΑΙ",15300,""),"") | E27: =IF(ΓΕΝΙΚΑ!$B$14="ΝΑΙ","ΠΑΝΕΛΛΑΔΙΚΑ","") -> ΠΑΝΕΛΛΑΔΙΚΑ | F27: ΠΑΝΕΛΛΑΔΙΚΑ | I27: =IF(G27="","",IF(G27="Άλλη",H27,G27)) | N27: =N$3 -> 13838: Εξυπηρέτηση Οικιακών Πελατών & Καρτοκινητής (λήψη παραγγελιών, βλαβοληψία, παροχή πληροφοριών/βοήθειας) 13839: Εξυπηρέτηση Εταιρικών Πελατών (λήψη παραγγελιών, βλαβοληψία, παροχή πληροφοριών/βοήιθειας) 1255: Εξυπηρέτηση Ευρυζωνικών Υπηρεσιών (ADSL) (παροχή πληροφοριών) 1250: Υπηρεσία Γενικών Πληροφοριών COSMOTE και Αναγγελία Βλαβών 1299: Εξυπηρέτηση Πελατών Frog (λήψη παραγγελιών, βλαβοληψία, παροχή πληροφοριών/βοήθειας) 1290: Βλαβοληψία Frog | P27: =IF(Q27="","","ΣΦΑΛΜΑ") | Q27: =IF(G27="","",CONCATENATE(IF(AND(FALSE,W27<>0),"Σφάλμα ημερομηνίας",""),IF(I27=""," | Πρέπει να επιλεγεί υπηρεσία",""),IF(J27=""," | Πρέπει να επιλεγεί μέσο",""),IF(K27=""," | Πρέπει να αναγραφούν τα στοιχεία μέσου",""),IF(L27=""," | Πρέπει να αναγραφεί η χρέωση του μέσου",""),IF(M27=""," | Πρέπει να αναγραφεί ωράριο λειτουργίας",""), IF(AND(ISNUMBER(K27)=FALSE,OR(J27="Τηλέφωνο",J27="Fax"))," | Τα στοιχεία μέσου (αριθμός τηλεφώνου ή fax) πρέπει να είναι αριθμός",""))) | R27: =TEXT($C$3,"ηη/ΜΜ/εεεε") -> 01/01/2019 | S27: =VALUE(LEFT(R27,2)) -> 1 | T27: =VALUE(MID(R27,4,2)) -> 1 | U27: =VALUE(RIGHT(R27,4)) -> 2019 | V27: =IF(LEN((R27)=10),0,1)+IF(AND(S27>0,S27<32),0,1)+IF(AND(T27>0,T27<13),0,1)+IF(AND(U27>2000,U27<2030),0,1) -> 0 | W27: =IF(ISERR(V27),1,V27) -> 0
A28: =A$3 -> H01 | B28: =B$3 -> COSMOTE | C28: =C$3 -> 43466 | D28: =IF(AND(G28<>"",P28=""),IF(ΓΕΝΙΚΑ!$B$14="ΝΑΙ",15300,""),"") | E28: =IF(ΓΕΝΙΚΑ!$B$14="ΝΑΙ","ΠΑΝΕΛΛΑΔΙΚΑ","") -> ΠΑΝΕΛΛΑΔΙΚΑ | F28: ΠΑΝΕΛΛΑΔΙΚΑ | I28: =IF(G28="","",IF(G28="Άλλη",H28,G28)) | N28: =N$3 -> 13838: Εξυπηρέτηση Οικιακών Πελατών & Καρτοκινητής (λήψη παραγγελιών, βλαβοληψία, παροχή πληροφοριών/βοήθειας) 13839: Εξυπηρέτηση Εταιρικών Πελατών (λήψη παραγγελιών, βλαβοληψία, παροχή πληροφοριών/βοήιθειας) 1255: Εξυπηρέτηση Ευρυζωνικών Υπηρεσιών (ADSL) (παροχή πληροφοριών) 1250: Υπηρεσία Γενικών Πληροφοριών COSMOTE και Αναγγελία Βλαβών 1299: Εξυπηρέτηση Πελατών Frog (λήψη παραγγελιών, βλαβοληψία, παροχή πληροφοριών/βοήθειας) 1290: Βλαβοληψία Frog | P28: =IF(Q28="","","ΣΦΑΛΜΑ") | Q28: =IF(G28="","",CONCATENATE(IF(AND(FALSE,W28<>0),"Σφάλμα ημερομηνίας",""),IF(I28=""," | Πρέπει να επιλεγεί υπηρεσία",""),IF(J28=""," | Πρέπει να επιλεγεί μέσο",""),IF(K28=""," | Πρέπει να αναγραφούν τα στοιχεία μέσου",""),IF(L28=""," | Πρέπει να αναγραφεί η χρέωση του μέσου",""),IF(M28=""," | Πρέπει να αναγραφεί ωράριο λειτουργίας",""), IF(AND(ISNUMBER(K28)=FALSE,OR(J28="Τηλέφωνο",J28="Fax"))," | Τα στοιχεία μέσου (αριθμός τηλεφώνου ή fax) πρέπει να είναι αριθμός",""))) | R28: =TEXT($C$3,"ηη/ΜΜ/εεεε") -> 01/01/2019 | S28: =VALUE(LEFT(R28,2)) -> 1 | T28: =VALUE(MID(R28,4,2)) -> 1 | U28: =VALUE(RIGHT(R28,4)) -> 2019 | V28: =IF(LEN((R28)=10),0,1)+IF(AND(S28>0,S28<32),0,1)+IF(AND(T28>0,T28<13),0,1)+IF(AND(U28>2000,U28<2030),0,1) -> 0 | W28: =IF(ISERR(V28),1,V28) -> 0
A29: =A$3 -> H01 | B29: =B$3 -> COSMOTE | C29: =C$3 -> 43466 | D29: =IF(AND(G29<>"",P29=""),IF(ΓΕΝΙΚΑ!$B$14="ΝΑΙ",15300,""),"") | E29: =IF(ΓΕΝΙΚΑ!$B$14="ΝΑΙ","ΠΑΝΕΛΛΑΔΙΚΑ","") -> ΠΑΝΕΛΛΑΔΙΚΑ | F29: ΠΑΝΕΛΛΑΔΙΚΑ | I29: =IF(G29="","",IF(G29="Άλλη",H29,G29)) | N29: =N$3 -> 13838: Εξυπηρέτηση Οικιακών Πελατών & Καρτοκινητής (λήψη παραγγελιών, βλαβοληψία, παροχή πληροφοριών/βοήθειας) 13839: Εξυπηρέτηση Εταιρικών Πελατών (λήψη παραγγελιών, βλαβοληψία, παροχή πληροφοριών/βοήιθειας) 1255: Εξυπηρέτηση Ευρυζωνικών Υπηρεσιών (ADSL) (παροχή πληροφοριών) 1250: Υπηρεσία Γενικών Πληροφοριών COSMOTE και Αναγγελία Βλαβών 1299: Εξυπηρέτηση Πελατών Frog (λήψη παραγγελιών, βλαβοληψία, παροχή πληροφοριών/βοήθειας) 1290: Βλαβοληψία Frog | P29: =IF(Q29="","","ΣΦΑΛΜΑ") | Q29: =IF(G29="","",CONCATENATE(IF(AND(FALSE,W29<>0),"Σφάλμα ημερομηνίας",""),IF(I29=""," | Πρέπει να επιλεγεί υπηρεσία",""),IF(J29=""," | Πρέπει να επιλεγεί μέσο",""),IF(K29=""," | Πρέπει να αναγραφούν τα στοιχεία μέσου",""),IF(L29=""," | Πρέπει να αναγραφεί η χρέωση του μέσου",""),IF(M29=""," | Πρέπει να αναγραφεί ωράριο λειτουργίας",""), IF(AND(ISNUMBER(K29)=FALSE,OR(J29="Τηλέφωνο",J29="Fax"))," | Τα στοιχεία μέσου (αριθμός τηλεφώνου ή fax) πρέπει να είναι αριθμός",""))) | R29: =TEXT($C$3,"ηη/ΜΜ/εεεε") -> 01/01/2019 | S29: =VALUE(LEFT(R29,2)) -> 1 | T29: =VALUE(MID(R29,4,2)) -> 1 | U29: =VALUE(RIGHT(R29,4)) -> 2019 | V29: =IF(LEN((R29)=10),0,1)+IF(AND(S29>0,S29<32),0,1)+IF(AND(T29>0,T29<13),0,1)+IF(AND(U29>2000,U29<2030),0,1) -> 0 | W29: =IF(ISERR(V29),1,V29) -> 0
A30: =A$3 -> H01 | B30: =B$3 -> COSMOTE | C30: =C$3 -> 43466 | D30: =IF(AND(G30<>"",P30=""),IF(ΓΕΝΙΚΑ!$B$14="ΝΑΙ",15300,""),"") | E30: =IF(ΓΕΝΙΚΑ!$B$14="ΝΑΙ","ΠΑΝΕΛΛΑΔΙΚΑ","") -> ΠΑΝΕΛΛΑΔΙΚΑ | F30: ΠΑΝΕΛΛΑΔΙΚΑ | I30: =IF(G30="","",IF(G30="Άλλη",H30,G30)) | N30: =N$3 -> 13838: Εξυπηρέτηση Οικιακών Πελατών & Καρτοκινητής (λήψη παραγγελιών, βλαβοληψία, παροχή πληροφοριών/βοήθειας) 13839: Εξυπηρέτηση Εταιρικών Πελατών (λήψη παραγγελιών, βλαβοληψία, παροχή πληροφοριών/βοήιθειας) 1255: Εξυπηρέτηση Ευρυζωνικών Υπηρεσιών (ADSL) (παροχή πληροφοριών) 1250: Υπηρεσία Γενικών Πληροφοριών COSMOTE και Αναγγελία Βλαβών 1299: Εξυπηρέτηση Πελατών Frog (λήψη παραγγελιών, βλαβοληψία, παροχή πληροφοριών/βοήθειας) 1290: Βλαβοληψία Frog | P30: =IF(Q30="","","ΣΦΑΛΜΑ") | Q30: =IF(G30="","",CONCATENATE(IF(AND(FALSE,W30<>0),"Σφάλμα ημερομηνίας",""),IF(I30=""," | Πρέπει να επιλεγεί υπηρεσία",""),IF(J30=""," | Πρέπει να επιλεγεί μέσο",""),IF(K30=""," | Πρέπει να αναγραφούν τα στοιχεία μέσου",""),IF(L30=""," | Πρέπει να αναγραφεί η χρέωση του μέσου",""),IF(M30=""," | Πρέπει να αναγραφεί ωράριο λειτουργίας",""), IF(AND(ISNUMBER(K30)=FALSE,OR(J30="Τηλέφωνο",J30="Fax"))," | Τα στοιχεία μέσου (αριθμός τηλεφώνου ή fax) πρέπει να είναι αριθμός",""))) | R30: =TEXT($C$3,"ηη/ΜΜ/εεεε") -> 01/01/2019 | S30: =VALUE(LEFT(R30,2)) -> 1 | T30: =VALUE(MID(R30,4,2)) -> 1 | U30: =VALUE(RIGHT(R30,4)) -> 2019 | V30: =IF(LEN((R30)=10),0,1)+IF(AND(S30>0,S30<32),0,1)+IF(AND(T30>0,T30<13),0,1)+IF(AND(U30>2000,U30<2030),0,1) -> 0 | W30: =IF(ISERR(V30),1,V30) -> 0
A31: =A$3 -> H01 | B31: =B$3 -> COSMOTE | C31: =C$3 -> 43466 | D31: =IF(AND(G31<>"",P31=""),IF(ΓΕΝΙΚΑ!$B$14="ΝΑΙ",15300,""),"") | E31: =IF(ΓΕΝΙΚΑ!$B$14="ΝΑΙ","ΠΑΝΕΛΛΑΔΙΚΑ","") -> ΠΑΝΕΛΛΑΔΙΚΑ | F31: ΠΑΝΕΛΛΑΔΙΚΑ | I31: =IF(G31="","",IF(G31="Άλλη",H31,G31)) | N31: =N$3 -> 13838: Εξυπηρέτηση Οικιακών Πελατών & Καρτοκινητής (λήψη παραγγελιών, βλαβοληψία, παροχή πληροφοριών/βοήθειας) 13839: Εξυπηρέτηση Εταιρικών Πελατών (λήψη παραγγελιών, βλαβοληψία, παροχή πληροφοριών/βοήιθειας) 1255: Εξυπηρέτηση Ευρυζωνικών Υπηρεσιών (ADSL) (παροχή πληροφοριών) 1250: Υπηρεσία Γενικών Πληροφοριών COSMOTE και Αναγγελία Βλαβών 1299: Εξυπηρέτηση Πελατών Frog (λήψη παραγγελιών, βλαβοληψία, παροχή πληροφοριών/βοήθειας) 1290: Βλαβοληψία Frog | P31: =IF(Q31="","","ΣΦΑΛΜΑ") | Q31: =IF(G31="","",CONCATENATE(IF(AND(FALSE,W31<>0),"Σφάλμα ημερομηνίας",""),IF(I31=""," | Πρέπει να επιλεγεί υπηρεσία",""),IF(J31=""," | Πρέπει να επιλεγεί μέσο",""),IF(K31=""," | Πρέπει να αναγραφούν τα στοιχεία μέσου",""),IF(L31=""," | Πρέπει να αναγραφεί η χρέωση του μέσου",""),IF(M31=""," | Πρέπει να αναγραφεί ωράριο λειτουργίας",""), IF(AND(ISNUMBER(K31)=FALSE,OR(J31="Τηλέφωνο",J31="Fax"))," | Τα στοιχεία μέσου (αριθμός τηλεφώνου ή fax) πρέπει να είναι αριθμός",""))) | R31: =TEXT($C$3,"ηη/ΜΜ/εεεε") -> 01/01/2019 | S31: =VALUE(LEFT(R31,2)) -> 1 | T31: =VALUE(MID(R31,4,2)) -> 1 | U31: =VALUE(RIGHT(R31,4)) -> 2019 | V31: =IF(LEN((R31)=10),0,1)+IF(AND(S31>0,S31<32),0,1)+IF(AND(T31>0,T31<13),0,1)+IF(AND(U31>2000,U31<2030),0,1) -> 0 | W31: =IF(ISERR(V31),1,V31) -> 0
A32: =A$3 -> H01 | B32: =B$3 -> COSMOTE | C32: =C$3 -> 43466 | D32: =IF(AND(G32<>"",P32=""),IF(ΓΕΝΙΚΑ!$B$14="ΝΑΙ",15300,""),"") | E32: =IF(ΓΕΝΙΚΑ!$B$14="ΝΑΙ","ΠΑΝΕΛΛΑΔΙΚΑ","") -> ΠΑΝΕΛΛΑΔΙΚΑ | F32: ΠΑΝΕΛΛΑΔΙΚΑ | I32: =IF(G32="","",IF(G32="Άλλη",H32,G32)) | N32: =N$3 -> 13838: Εξυπηρέτηση Οικιακών Πελατών & Καρτοκινητής (λήψη παραγγελιών, βλαβοληψία, παροχή πληροφοριών/βοήθειας) 13839: Εξυπηρέτηση Εταιρικών Πελατών (λήψη παραγγελιών, βλαβοληψία, παροχή πληροφοριών/βοήιθειας) 1255: Εξυπηρέτηση Ευρυζωνικών Υπηρεσιών (ADSL) (παροχή πληροφοριών) 1250: Υπηρεσία Γενικών Πληροφοριών COSMOTE και Αναγγελία Βλαβών 1299: Εξυπηρέτηση Πελατών Frog (λήψη παραγγελιών, βλαβοληψία, παροχή πληροφοριών/βοήθειας) 1290: Βλαβοληψία Frog | P32: =IF(Q32="","","ΣΦΑΛΜΑ") | Q32: =IF(G32="","",CONCATENATE(IF(AND(FALSE,W32<>0),"Σφάλμα ημερομηνίας",""),IF(I32=""," | Πρέπει να επιλεγεί υπηρεσία",""),IF(J32=""," | Πρέπει να επιλεγεί μέσο",""),IF(K32=""," | Πρέπει να αναγραφούν τα στοιχεία μέσου",""),IF(L32=""," | Πρέπει να αναγραφεί η χρέωση του μέσου",""),IF(M32=""," | Πρέπει να αναγραφεί ωράριο λειτουργίας",""), IF(AND(ISNUMBER(K32)=FALSE,OR(J32="Τηλέφωνο",J32="Fax"))," | Τα στοιχεία μέσου (αριθμός τηλεφώνου ή fax) πρέπει να είναι αριθμός",""))) | R32: =TEXT($C$3,"ηη/ΜΜ/εεεε") -> 01/01/2019 | S32: =VALUE(LEFT(R32,2)) -> 1 | T32: =VALUE(MID(R32,4,2)) -> 1 | U32: =VALUE(RIGHT(R32,4)) -> 2019 | V32: =IF(LEN((R32)=10),0,1)+IF(AND(S32>0,S32<32),0,1)+IF(AND(T32>0,T32<13),0,1)+IF(AND(U32>2000,U32<2030),0,1) -> 0 | W32: =IF(ISERR(V32),1,V32) -> 0

Sheet H02
A1: KPIcode | B1: Operator | C1: Orchard_Measurement_Id | D1: Orchard_Route_Title | E1: MeasurementArea | F1: Service | G1: ServiceType | H1: ServiceValue | I1: NoUse | J1: NotAnsweredCallsPercentage | K1: Notes | M1: NoUse | N1: NoUse
A2: KPI-CODE | B2: Πάροχος | E2: ΠΕΡΙΟΧΗ | F2: Υπηρεσία | G2: Μέσο | H2: Στοιχεία μέσου | I2: Ποσοστό αναπάντητων κλήσεων (%) (αριθμητική τιμή με 2 δεκαδικά) | J2: Ποσοστό αναπάντητων κλήσεων (%) (αριθμητική τιμή με 2 δεκαδικά) | K2: Σημειώσεις Παρόχου | M2: ΕΛΕΓΧΟΣ ΟΡΘΟΤΗΤΑΣ | N2: Σφάλματα
A3: H02 | B3: =ΓΕΝΙΚΑ!C4 -> COSMOTE | C3: =IF(AND(F3<>"",M3=""),IF(ΓΕΝΙΚΑ!$B$15="ΝΑΙ",15300,""),"") -> 15300 | D3: =IF(ΓΕΝΙΚΑ!$B$15="ΝΑΙ","ΠΑΝΕΛΛΑΔΙΚΑ","") -> ΠΑΝΕΛΛΑΔΙΚΑ | E3: ΠΑΝΕΛΛΑΔΙΚΑ | F3: =IF(G3="","",'H01'!I3) -> Λήψη παραγγελιών ή/και παροχή πληροφοριών/βοήθειας | G3: =IF(OR('H01'!J3="Τηλέφωνο",'H01'!J3="Fax"),'H01'!J3,"") -> Τηλέφωνο | H3: =IF(OR('H01'!J3="Τηλέφωνο",'H01'!J3="Fax"),'H01'!K3,"") -> 13838 | I3: 17.36 | J3: =IF(ISNUMBER(I3),ROUND(I3,2),"") -> 17.36 | M3: =IF(N3="","","ΣΦΑΛΜΑ") | N3: =IF(H3="","",IF(ISNUMBER(I3),IF(OR(I3<0,I3>100),"Το ποσοστό αναπάντητων κλήσεων πρέπει να είναι αριθμός από 0 έως 100","")," | Το ποσοστό αναπάντητων κλήσεων πρέπει να συμπληρωθεί"))
A4: =A$3 -> H02 | B4: =B$3 -> COSMOTE | C4: =IF(AND(F4<>"",M4=""),IF(ΓΕΝΙΚΑ!$B$15="ΝΑΙ",15300,""),"") -> 15300 | D4: =IF(ΓΕΝΙΚΑ!$B$15="ΝΑΙ","ΠΑΝΕΛΛΑΔΙΚΑ","") -> ΠΑΝΕΛΛΑΔΙΚΑ | E4: ΠΑΝΕΛΛΑΔΙΚΑ | F4: =IF(G4="","",'H01'!I4) -> Λήψη παραγγελιών ή/και παροχή πληροφοριών/βοήθειας | G4: =IF(OR('H01'!J4="Τηλέφωνο",'H01'!J4="Fax"),'H01'!J4,"") -> Τηλέφωνο | H4: =IF(OR('H01'!J4="Τηλέφωνο",'H01'!J4="Fax"),'H01'!K4,"") -> 13839 | I4: 5.42 | J4: =IF(ISNUMBER(I4),ROUND(I4,2),"") -> 5.42 | K4: =K$3 -> 0 | M4: =IF(N4="","","ΣΦΑΛΜΑ") | N4: =IF(H4="","",IF(ISNUMBER(I4),IF(OR(I4<0,I4>100),"Το ποσοστό αναπάντητων κλήσεων πρέπει να είναι αριθμός από 0 έως 100","")," | Το ποσοστό αναπάντητων κλήσεων πρέπει να συμπληρωθεί"))
A5: =A$3 -> H02 | B5: =B$3 -> COSMOTE | C5: =IF(AND(F5<>"",M5=""),IF(ΓΕΝΙΚΑ!$B$15="ΝΑΙ",15300,""),"") -> 15300 | D5: =IF(ΓΕΝΙΚΑ!$B$15="ΝΑΙ","ΠΑΝΕΛΛΑΔΙΚΑ","") -> ΠΑΝΕΛΛΑΔΙΚΑ | E5: ΠΑΝΕΛΛΑΔΙΚΑ | F5: =IF(G5="","",'H01'!I5) -> Λήψη παραγγελιών ή/και παροχή πληροφοριών/βοήθειας | G5: =IF(OR('H01'!J5="Τηλέφωνο",'H01'!J5="Fax"),'H01'!J5,"") -> Τηλέφωνο | H5: =IF(OR('H01'!J5="Τηλέφωνο",'H01'!J5="Fax"),'H01'!K5,"") -> 1255 | I5: 17.78 | J5: =IF(ISNUMBER(I5),ROUND(I5,2),"") -> 17.78 | K5: =K$3 -> 0 | M5: =IF(N5="","","ΣΦΑΛΜΑ") | N5: =IF(H5="","",IF(ISNUMBER(I5),IF(OR(I5<0,I5>100),"Το ποσοστό αναπάντητων κλήσεων πρέπει να είναι αριθμός από 0 έως 100","")," | Το ποσοστό αναπάντητων κλήσεων πρέπει να συμπληρωθεί"))
A6: =A$3 -> H02 | B6: =B$3 -> COSMOTE | C6: =IF(AND(F6<>"",M6=""),IF(ΓΕΝΙΚΑ!$B$15="ΝΑΙ",15300,""),"") -> 15300 | D6: =IF(ΓΕΝΙΚΑ!$B$15="ΝΑΙ","ΠΑΝΕΛΛΑΔΙΚΑ","") -> ΠΑΝΕΛΛΑΔΙΚΑ | E6: ΠΑΝΕΛΛΑΔΙΚΑ | F6: =IF(G6="","",'H01'!I6) -> Λήψη παραγγελιών ή/και παροχή πληροφοριών/βοήθειας | G6: =IF(OR('H01'!J6="Τηλέφωνο",'H01'!J6="Fax"),'H01'!J6,"") -> Τηλέφωνο | H6: =IF(OR('H01'!J6="Τηλέφωνο",'H01'!J6="Fax"),'H01'!K6,"") -> 1250 | I6: 3.33 | J6: =IF(ISNUMBER(I6),ROUND(I6,2),"") -> 3.33 | K6: =K$3 -> 0 | M6: =IF(N6="","","ΣΦΑΛΜΑ") | N6: =IF(H6="","",IF(ISNUMBER(I6),IF(OR(I6<0,I6>100),"Το ποσοστό αναπάντητων κλήσεων πρέπει να είναι αριθμός από 0 έως 100","")," | Το ποσοστό αναπάντητων κλήσεων πρέπει να συμπληρωθεί"))
A7: =A$3 -> H02 | B7: =B$3 -> COSMOTE | C7: =IF(AND(F7<>"",M7=""),IF(ΓΕΝΙΚΑ!$B$15="ΝΑΙ",15300,""),"") -> 15300 | D7: =IF(ΓΕΝΙΚΑ!$B$15="ΝΑΙ","ΠΑΝΕΛΛΑΔΙΚΑ","") -> ΠΑΝΕΛΛΑΔΙΚΑ | E7: ΠΑΝΕΛΛΑΔΙΚΑ | F7: =IF(G7="","",'H01'!I7) -> Λήψη παραγγελιών ή/και παροχή πληροφοριών/βοήθειας | G7: =IF(OR('H01'!J7="Τηλέφωνο",'H01'!J7="Fax"),'H01'!J7,"") -> Τηλέφωνο | H7: =IF(OR('H01'!J7="Τηλέφωνο",'H01'!J7="Fax"),'H01'!K7,"") -> 1299 | I7: 4.62 | J7: =IF(ISNUMBER(I7),ROUND(I7,2),"") -> 4.62 | K7: =K$3 -> 0 | M7: =IF(N7="","","ΣΦΑΛΜΑ") | N7: =IF(H7="","",IF(ISNUMBER(I7),IF(OR(I7<0,I7>100),"Το ποσοστό αναπάντητων κλήσεων πρέπει να είναι αριθμός από 0 έως 100","")," | Το ποσοστό αναπάντητων κλήσεων πρέπει να συμπληρωθεί"))
A8: =A$3 -> H02 | B8: =B$3 -> COSMOTE | C8: =IF(AND(F8<>"",M8=""),IF(ΓΕΝΙΚΑ!$B$15="ΝΑΙ",15300,""),"") -> 15300 | D8: =IF(ΓΕΝΙΚΑ!$B$15="ΝΑΙ","ΠΑΝΕΛΛΑΔΙΚΑ","") -> ΠΑΝΕΛΛΑΔΙΚΑ | E8: ΠΑΝΕΛΛΑΔΙΚΑ | F8: =IF(G8="","",'H01'!I8) -> Βλαβοληψία | G8: =IF(OR('H01'!J8="Τηλέφωνο",'H01'!J8="Fax"),'H01'!J8,"") -> Τηλέφωνο | H8: =IF(OR('H01'!J8="Τηλέφωνο",'H01'!J8="Fax"),'H01'!K8,"") -> 1290 | I8: 29.61 | J8: =IF(ISNUMBER(I8),ROUND(I8,2),"") -> 29.61 | K8: =K$3 -> 0 | M8: =IF(N8="","","ΣΦΑΛΜΑ") | N8: =IF(H8="","",IF(ISNUMBER(I8),IF(OR(I8<0,I8>100),"Το ποσοστό αναπάντητων κλήσεων πρέπει να είναι αριθμός από 0 έως 100","")," | Το ποσοστό αναπάντητων κλήσεων πρέπει να συμπληρωθεί"))
A9: =A$3 -> H02 | B9: =B$3 -> COSMOTE | C9: =IF(AND(F9<>"",M9=""),IF(ΓΕΝΙΚΑ!$B$15="ΝΑΙ",15300,""),"") -> 15300 | D9: =IF(ΓΕΝΙΚΑ!$B$15="ΝΑΙ","ΠΑΝΕΛΛΑΔΙΚΑ","") -> ΠΑΝΕΛΛΑΔΙΚΑ | E9: ΠΑΝΕΛΛΑΔΙΚΑ | F9: =IF(G9="","",'H01'!I9) -> Βλαβοληψία | G9: =IF(OR('H01'!J9="Τηλέφωνο",'H01'!J9="Fax"),'H01'!J9,"") -> Τηλέφωνο | H9: =IF(OR('H01'!J9="Τηλέφωνο",'H01'!J9="Fax"),'H01'!K9,"") -> 13738 | I9: 6.32 | J9: =IF(ISNUMBER(I9),ROUND(I9,2),"") -> 6.32 | K9: =K$3 -> 0 | M9: =IF(N9="","","ΣΦΑΛΜΑ") | N9: =IF(H9="","",IF(ISNUMBER(I9),IF(OR(I9<0,I9>100),"Το ποσοστό αναπάντητων κλήσεων πρέπει να είναι αριθμός από 0 έως 100","")," | Το ποσοστό αναπάντητων κλήσεων πρέπει να συμπληρωθεί"))
A10: =A$3 -> H02 | B10: =B$3 -> COSMOTE | C10: =IF(AND(F10<>"",M10=""),IF(ΓΕΝΙΚΑ!$B$15="ΝΑΙ",15300,""),"") -> 15300 | D10: =IF(ΓΕΝΙΚΑ!$B$15="ΝΑΙ","ΠΑΝΕΛΛΑΔΙΚΑ","") -> ΠΑΝΕΛΛΑΔΙΚΑ | E10: ΠΑΝΕΛΛΑΔΙΚΑ | F10: =IF(G10="","",'H01'!I10) -> Λήψη παραγγελιών ή/και παροχή πληροφοριών/βοήθειας | G10: =IF(OR('H01'!J10="Τηλέφωνο",'H01'!J10="Fax"),'H01'!J10,"") -> Fax | H10: =IF(OR('H01'!J10="Τηλέφωνο",'H01'!J10="Fax"),'H01'!K10,"") -> 2102511888 | I10: 13.82 | J10: =IF(ISNUMBER(I10),ROUND(I10,2),"") -> 13.82 | K10: =K$3 -> 0 | M10: =IF(N10="","","ΣΦΑΛΜΑ") | N10: =IF(H10="","",IF(ISNUMBER(I10),IF(OR(I10<0,I10>100),"Το ποσοστό αναπάντητων κλήσεων πρέπει να είναι αριθμός από 0 έως 100","")," | Το ποσοστό αναπάντητων κλήσεων πρέπει να συμπληρωθεί"))
A11: =A$3 -> H02 | B11: =B$3 -> COSMOTE | C11: =IF(AND(F11<>"",M11=""),IF(ΓΕΝΙΚΑ!$B$15="ΝΑΙ",15300,""),"") | D11: =IF(ΓΕΝΙΚΑ!$B$15="ΝΑΙ","ΠΑΝΕΛΛΑΔΙΚΑ","") -> ΠΑΝΕΛΛΑΔΙΚΑ | E11: ΠΑΝΕΛΛΑΔΙΚΑ | F11: =IF(G11="","",'H01'!I11) | G11: =IF(OR('H01'!J11="Τηλέφωνο",'H01'!J11="Fax"),'H01'!J11,"") | H11: =IF(OR('H01'!J11="Τηλέφωνο",'H01'!J11="Fax"),'H01'!K11,"") | J11: =IF(ISNUMBER(I11),ROUND(I11,2),"") | K11: =K$3 -> 0 | M11: =IF(N11="","","ΣΦΑΛΜΑ") | N11: =IF(H11="","",IF(ISNUMBER(I11),IF(OR(I11<0,I11>100),"Το ποσοστό αναπάντητων κλήσεων πρέπει να είναι αριθμός από 0 έως 100","")," | Το ποσοστό αναπάντητων κλήσεων πρέπει να συμπληρωθεί"))
A12: =A$3 -> H02 | B12: =B$3 -> COSMOTE | C12: =IF(AND(F12<>"",M12=""),IF(ΓΕΝΙΚΑ!$B$15="ΝΑΙ",15300,""),"") | D12: =IF(ΓΕΝΙΚΑ!$B$15="ΝΑΙ","ΠΑΝΕΛΛΑΔΙΚΑ","") -> ΠΑΝΕΛΛΑΔΙΚΑ | E12: ΠΑΝΕΛΛΑΔΙΚΑ | F12: =IF(G12="","",'H01'!I12) | G12: =IF(OR('H01'!J12="Τηλέφωνο",'H01'!J12="Fax"),'H01'!J12,"") | H12: =IF(OR('H01'!J12="Τηλέφωνο",'H01'!J12="Fax"),'H01'!K12,"") | J12: =IF(ISNUMBER(I12),ROUND(I12,2),"") | K12: =K$3 -> 0 | M12: =IF(N12="","","ΣΦΑΛΜΑ") | N12: =IF(H12="","",IF(ISNUMBER(I12),IF(OR(I12<0,I12>100),"Το ποσοστό αναπάντητων κλήσεων πρέπει να είναι αριθμός από 0 έως 100","")," | Το ποσοστό αναπάντητων κλήσεων πρέπει να συμπληρωθεί"))
A13: =A$3 -> H02 | B13: =B$3 -> COSMOTE | C13: =IF(AND(F13<>"",M13=""),IF(ΓΕΝΙΚΑ!$B$15="ΝΑΙ",15300,""),"") | D13: =IF(ΓΕΝΙΚΑ!$B$15="ΝΑΙ","ΠΑΝΕΛΛΑΔΙΚΑ","") -> ΠΑΝΕΛΛΑΔΙΚΑ | E13: ΠΑΝΕΛΛΑΔΙΚΑ | F13: =IF(G13="","",'H01'!I13) | G13: =IF(OR('H01'!J13="Τηλέφωνο",'H01'!J13="Fax"),'H01'!J13,"") | H13: =IF(OR('H01'!J13="Τηλέφωνο",'H01'!J13="Fax"),'H01'!K13,"") | J13: =IF(ISNUMBER(I13),ROUND(I13,2),"") | K13: =K$3 -> 0 | M13: =IF(N13="","","ΣΦΑΛΜΑ") | N13: =IF(H13="","",IF(ISNUMBER(I13),IF(OR(I13<0,I13>100),"Το ποσοστό αναπάντητων κλήσεων πρέπει να είναι αριθμός από 0 έως 100","")," | Το ποσοστό αναπάντητων κλήσεων πρέπει να συμπληρωθεί"))
A14: =A$3 -> H02 | B14: =B$3 -> COSMOTE | C14: =IF(AND(F14<>"",M14=""),IF(ΓΕΝΙΚΑ!$B$15="ΝΑΙ",15300,""),"") | D14: =IF(ΓΕΝΙΚΑ!$B$15="ΝΑΙ","ΠΑΝΕΛΛΑΔΙΚΑ","") -> ΠΑΝΕΛΛΑΔΙΚΑ | E14: ΠΑΝΕΛΛΑΔΙΚΑ | F14: =IF(G14="","",'H01'!I14) | G14: =IF(OR('H01'!J14="Τηλέφωνο",'H01'!J14="Fax"),'H01'!J14,"") | H14: =IF(OR('H01'!J14="Τηλέφωνο",'H01'!J14="Fax"),'H01'!K14,"") | J14: =IF(ISNUMBER(I14),ROUND(I14,2),"") | K14: =K$3 -> 0 | M14: =IF(N14="","","ΣΦΑΛΜΑ") | N14: =IF(H14="","",IF(ISNUMBER(I14),IF(OR(I14<0,I14>100),"Το ποσοστό αναπάντητων κλήσεων πρέπει να είναι αριθμός από 0 έως 100","")," | Το ποσοστό αναπάντητων κλήσεων πρέπει να συμπληρωθεί"))
A15: =A$3 -> H02 | B15: =B$3 -> COSMOTE | C15: =IF(AND(F15<>"",M15=""),IF(ΓΕΝΙΚΑ!$B$15="ΝΑΙ",15300,""),"") | D15: =IF(ΓΕΝΙΚΑ!$B$15="ΝΑΙ","ΠΑΝΕΛΛΑΔΙΚΑ","") -> ΠΑΝΕΛΛΑΔΙΚΑ | E15: ΠΑΝΕΛΛΑΔΙΚΑ | F15: =IF(G15="","",'H01'!I15) | G15: =IF(OR('H01'!J15="Τηλέφωνο",'H01'!J15="Fax"),'H01'!J15,"") | H15: =IF(OR('H01'!J15="Τηλέφωνο",'H01'!J15="Fax"),'H01'!K15,"") | J15: =IF(ISNUMBER(I15),ROUND(I15,2),"") | K15: =K$3 -> 0 | M15: =IF(N15="","","ΣΦΑΛΜΑ") | N15: =IF(H15="","",IF(ISNUMBER(I15),IF(OR(I15<0,I15>100),"Το ποσοστό αναπάντητων κλήσεων πρέπει να είναι αριθμός από 0 έως 100","")," | Το ποσοστό αναπάντητων κλήσεων πρέπει να συμπληρωθεί"))
A16: =A$3 -> H02 | B16: =B$3 -> COSMOTE | C16: =IF(AND(F16<>"",M16=""),IF(ΓΕΝΙΚΑ!$B$15="ΝΑΙ",15300,""),"") | D16: =IF(ΓΕΝΙΚΑ!$B$15="ΝΑΙ","ΠΑΝΕΛΛΑΔΙΚΑ","") -> ΠΑΝΕΛΛΑΔΙΚΑ | E16: ΠΑΝΕΛΛΑΔΙΚΑ | F16: =IF(G16="","",'H01'!I16) | G16: =IF(OR('H01'!J16="Τηλέφωνο",'H01'!J16="Fax"),'H01'!J16,"") | H16: =IF(OR('H01'!J16="Τηλέφωνο",'H01'!J16="Fax"),'H01'!K16,"") | J16: =IF(ISNUMBER(I16),ROUND(I16,2),"") | K16: =K$3 -> 0 | M16: =IF(N16="","","ΣΦΑΛΜΑ") | N16: =IF(H16="","",IF(ISNUMBER(I16),IF(OR(I16<0,I16>100),"Το ποσοστό αναπάντητων κλήσεων πρέπει να είναι αριθμός από 0 έως 100","")," | Το ποσοστό αναπάντητων κλήσεων πρέπει να συμπληρωθεί"))
